BEGIN:VCALENDAR
VERSION:2.0
PRODID:-//Clube Internacional de Regatas - ECPv6.15.20//NONSGML v1.0//EN
CALSCALE:GREGORIAN
METHOD:PUBLISH
X-ORIGINAL-URL:https://intersantos.com.br
X-WR-CALDESC:Eventos para Clube Internacional de Regatas
REFRESH-INTERVAL;VALUE=DURATION:PT1H
X-Robots-Tag:noindex
X-PUBLISHED-TTL:PT1H
BEGIN:VTIMEZONE
TZID:America/Sao_Paulo
BEGIN:STANDARD
TZOFFSETFROM:-0200
TZOFFSETTO:-0300
TZNAME:-03
DTSTART:20190217T020000
END:STANDARD
END:VTIMEZONE
BEGIN:VEVENT
DTSTART;TZID=America/Sao_Paulo:20200124T210000
DTEND;TZID=America/Sao_Paulo:20200124T233000
DTSTAMP:20260419T231957
CREATED:20191218T221024Z
LAST-MODIFIED:20191223T192248Z
UID:13358-1579899600-1579908600@intersantos.com.br
SUMMARY:Senadinho com Banda Sugar
DESCRIPTION:
URL:https://intersantos.com.br/calendario/senadinho-com-banda-sugar/
CATEGORIES:Senadinho
ATTACH;FMTTYPE=image/jpeg:https://intersantos.com.br/wp-content/uploads/2019/12/WhatsApp-Image-2019-12-20-at-02.02.22-1.jpeg
END:VEVENT
END:VCALENDAR