BEGIN:VCALENDAR
VERSION:2.0
PRODID:-//Clube Internacional de Regatas - ECPv6.15.20//NONSGML v1.0//EN
CALSCALE:GREGORIAN
METHOD:PUBLISH
X-WR-CALNAME:Clube Internacional de Regatas
X-ORIGINAL-URL:https://intersantos.com.br
X-WR-CALDESC:Eventos para Clube Internacional de Regatas
REFRESH-INTERVAL;VALUE=DURATION:PT1H
X-Robots-Tag:noindex
X-PUBLISHED-TTL:PT1H
BEGIN:VTIMEZONE
TZID:America/Sao_Paulo
BEGIN:STANDARD
TZOFFSETFROM:-0300
TZOFFSETTO:-0300
TZNAME:-03
DTSTART:20240101T000000
END:STANDARD
END:VTIMEZONE
BEGIN:VEVENT
DTSTART;TZID=America/Sao_Paulo:20250412T080000
DTEND;TZID=America/Sao_Paulo:20250412T170000
DTSTAMP:20260419T115432
CREATED:20250412T001530Z
LAST-MODIFIED:20250412T001530Z
UID:35835-1744444800-1744477200@intersantos.com.br
SUMMARY:Programação Esportiva e Social
DESCRIPTION:HORÁRIO DE FUNCIONAMENTO\n07h às 23h: Sede Social\n08h às 22h: Lanchonete Banzai\n12h às 22h: Restaurante\n08h às 20h: Secretaria\n09h às 20h: Balneários/SPA\n07h às 22h: Estacionamento\n08h às 13h: Musculação\n09h às 18h: Barraca de Praia \nNÁUTICA\n08h às 19h: Funcionamento\n08h30 às 12h e das 13h às 17h: Descida de embarcações (rampa)\n09h30 às 19h30: Catraia\n09h às 19h: Restaurante \nPISCINA SOCIAL\n09h às 18h \nPISCINA SEMIOLÍMPICA\n07h às 10h: Treino Equipe (NATAÇÃO)\n07h às 16h: LIBERADO para recreação dos associados\n16h às 18h: Treino Equipe (POLO AQUÁTICO) \nGINÁSIO DE ESPORTES (Principal)\n07h às 22h: Copa Oswaldo Guerato (PATINAÇÃO) \nGINÁSIO POLIESPORTIVO\n8h às 11h: LIBERADO para recreação dos associados\n11h às 14h: Recreação Associados Master (BASQUETE)\n14h às 22h: LIBERADO para recreação dos associados \nMINI-GINÁSIO\n08h às 22h: LIBERADO para recreação dos associados \nTÊNIS DE CAMPO\n08h às 22h: LIBERADO para recreação esportiva dos associados\n13h às 18h: Torneio Interclubes- Quadras 1 e 2 \nCAMPO DE FUTEBOL\n10h às 14h:Recreação dos associados- Futebol Master\n14h às 22h: LIBERADO para recreação dos associados
URL:https://intersantos.com.br/calendario/programacao-esportiva-e-social-291/
CATEGORIES:Programação esportiva
ATTACH;FMTTYPE=image/jpeg:https://intersantos.com.br/wp-content/uploads/2019/02/no-foto-quadrado.jpg
END:VEVENT
END:VCALENDAR