BEGIN:VCALENDAR
VERSION:2.0
PRODID:-//Clube Internacional de Regatas - ECPv6.15.20//NONSGML v1.0//EN
CALSCALE:GREGORIAN
METHOD:PUBLISH
X-ORIGINAL-URL:https://intersantos.com.br
X-WR-CALDESC:Eventos para Clube Internacional de Regatas
REFRESH-INTERVAL;VALUE=DURATION:PT1H
X-Robots-Tag:noindex
X-PUBLISHED-TTL:PT1H
BEGIN:VTIMEZONE
TZID:America/Sao_Paulo
BEGIN:STANDARD
TZOFFSETFROM:-0300
TZOFFSETTO:-0300
TZNAME:-03
DTSTART:20240101T000000
END:STANDARD
END:VTIMEZONE
BEGIN:VEVENT
DTSTART;VALUE=DATE:20250421
DTEND;VALUE=DATE:20250422
DTSTAMP:20260419T150348
CREATED:20250417T022149Z
LAST-MODIFIED:20250417T022149Z
UID:35935-1745193600-1745279999@intersantos.com.br
SUMMARY:Programação Esportiva e Social
DESCRIPTION:HORÁRIO DE FUNCIONAMENTO\n07h às 21h: Sede Social\n08h às 20h: Lanchonete Banzai\n12h às 20h: Restaurante\n08h às 16h: Secretaria\n08h às 14h: Balneários/SPA\n08h às 21h: Estacionamento\nFechada: Musculação\n09h às 18h: Barraca de Praia \nNÁUTICA\n08h às 19h: Funcionamento\n08h30 às 12h e das 13h às 17h: Descida de embarcações (rampa)\n09h30 às 19h30: Catraia\n09h às 19h: Restaurante \nPISCINA SOCIAL\nFechada \nPISCINA SEMIOLÍMPICA\n07h às 16h: LIBERADO para recreação dos associados \nGINÁSIO DE ESPORTES (Principal)\n07h às 23h: Torneio de Vôlei Master \nGINÁSIO POLIESPORTIVO\n07h às 23h: Torneio de Vôlei Master \nMINI-GINÁSIO\n07h às 23h: Torneio de Vôlei Master \nTÊNIS DE CAMPO\n08h às 21h: LIBERADO para recreação esportiva dos associados \nCAMPO DE FUTEBOL\n08h às 20h: LIBERADO para recreação dos associados
URL:https://intersantos.com.br/calendario/programacao-esportiva-e-social-296/
CATEGORIES:Programação esportiva
ATTACH;FMTTYPE=image/jpeg:https://intersantos.com.br/wp-content/uploads/2019/02/no-foto-quadrado.jpg
END:VEVENT
END:VCALENDAR