BEGIN:VCALENDAR
VERSION:2.0
PRODID:-//Clube Internacional de Regatas - ECPv6.15.20//NONSGML v1.0//EN
CALSCALE:GREGORIAN
METHOD:PUBLISH
X-WR-CALNAME:Clube Internacional de Regatas
X-ORIGINAL-URL:https://intersantos.com.br
X-WR-CALDESC:Eventos para Clube Internacional de Regatas
REFRESH-INTERVAL;VALUE=DURATION:PT1H
X-Robots-Tag:noindex
X-PUBLISHED-TTL:PT1H
BEGIN:VTIMEZONE
TZID:America/Sao_Paulo
BEGIN:STANDARD
TZOFFSETFROM:-0300
TZOFFSETTO:-0300
TZNAME:-03
DTSTART:20240101T000000
END:STANDARD
END:VTIMEZONE
BEGIN:VEVENT
DTSTART;VALUE=DATE:20250517
DTEND;VALUE=DATE:20250518
DTSTAMP:20260419T163933
CREATED:20250516T153224Z
LAST-MODIFIED:20250516T153224Z
UID:36387-1747440000-1747526399@intersantos.com.br
SUMMARY:Programação Esportiva e Social
DESCRIPTION:HORÁRIO DE FUNCIONAMENTO\n07h às 22h: Sede Social\n08h às 22h: Lanchonete Banzai\n12h às 22h: Restaurante\n08h às 20h: Secretaria\n08h às 20h: Balneários/SPA\n08h às 22h: Estacionamento\n08h às 14h: Musculação\n09h às 18h: Barraca de Praia \nNÁUTICA\n08h às 19h: Funcionamento\n08h30 às 12h e das 13h às 17h: Descida de embarcações (rampa)\n09h30 às 18h30: Catraia\n09h às 19h: Restaurante \nPISCINA SOCIAL\n10h às 18h \nPISCINA SEMIOLÍMPICA\n08h às 17h: PAB KIDs- Competição de POLO AQUÁTICO \nGINÁSIO DE ESPORTES (Principal)\n07h às 08h: Treino da Equipe de PATINAÇÃO\n08h às 14h: Campeonato Interno dos associados BASQUETE MASTER\n15h às 18h: Treino da Equipe de HÓQUEI\n18h às 22h: LIBERADO para recreação dos associados \nGINÁSIO POLIESPORTIVO\n08h às 14h: Campeonato Paulista de BASQUETE\n14h às 22h: LIBERADO para recreação dos associados \nMINI-GINÁSIO\n07h às 08h: Treino da Equipe de VÔLEI\n08h às 22h: LIBERADO para recreação dos associados \nTÊNIS DE CAMPO\n08h às 21h: LIBERADO para recreação dos associados\n14h às 20h: Torneio Interclubes (TÊNIS)- quadras 3\, 4\, 5 e 6. \nCAMPO DE FUTEBOL\n08h às 15h: LIBERADO para recreação dos associados\n15h às 18h: Recreação FUTEBOL MASTER
URL:https://intersantos.com.br/calendario/programacao-esportiva-e-social-304/
CATEGORIES:Programação esportiva
ATTACH;FMTTYPE=image/jpeg:https://intersantos.com.br/wp-content/uploads/2019/02/no-foto-quadrado.jpg
END:VEVENT
END:VCALENDAR