BEGIN:VCALENDAR
VERSION:2.0
PRODID:-//Clube Internacional de Regatas - ECPv6.15.20//NONSGML v1.0//EN
CALSCALE:GREGORIAN
METHOD:PUBLISH
X-ORIGINAL-URL:https://intersantos.com.br
X-WR-CALDESC:Eventos para Clube Internacional de Regatas
REFRESH-INTERVAL;VALUE=DURATION:PT1H
X-Robots-Tag:noindex
X-PUBLISHED-TTL:PT1H
BEGIN:VTIMEZONE
TZID:America/Sao_Paulo
BEGIN:STANDARD
TZOFFSETFROM:-0300
TZOFFSETTO:-0300
TZNAME:-03
DTSTART:20240101T000000
END:STANDARD
END:VTIMEZONE
BEGIN:VEVENT
DTSTART;VALUE=DATE:20250629
DTEND;VALUE=DATE:20250630
DTSTAMP:20260419T182623
CREATED:20250626T230800Z
LAST-MODIFIED:20250626T230800Z
UID:37624-1751155200-1751241599@intersantos.com.br
SUMMARY:Programação Esportiva e Social
DESCRIPTION:HORÁRIO DE FUNCIONAMENTO\n07h às 20h: Sede Social\n08h às 20h: Lanchonete Banzai\n12h às 20h: Restaurante\n08h às 16h: Secretaria\n09h às 15h: Balneários/SPA\n08h às 19h: Estacionamento\nFechada: Musculação\n09h às 18h: Barraca de Praia \nNÁUTICA\n08h às 19h: Funcionamento\n08h às 17h: Secretaria\n08h30 às 12h e das 13h às 17h: descida de embarcações (rampa)\n09h30 às 18h30: Catraia (saídas a cada 30 minutos)\n09h às 19h: Restaurante \nPISCINA SOCIAL\n10h às 18h \nPISCINA SEMIOLÍMPICA\n08h às 16h: LIBERADO para recreação dos associados \nGINÁSIO DE ESPORTES (Principal)\n08h às 19h: LIBERADO para recreação dos associados \nGINÁSIO POLIESPORTIVO\n08h às 14h: LIBERADO para recreação dos associados\n14h às 17h: Campeonato Paulista (VÔLEI)\n17h às 19h: LIBERADO para recreação dos associados \nMINI-GINÁSIO\n08h às 19h: LIBERADO para recreação dos associados \nTÊNIS DE CAMPO\n08h às 19h: LIBERADO para recreação dos associados- quadras 3\, 4\, 5 e 6.\n13h às 18h: Torneio Interclubes- quadras 1 e 2 \nCAMPO DE FUTEBOL\n8h às 19h: LIBERADO para recreação dos associados
URL:https://intersantos.com.br/calendario/programacao-esportiva-e-social-315/
CATEGORIES:Programação esportiva
ATTACH;FMTTYPE=image/jpeg:https://intersantos.com.br/wp-content/uploads/2019/02/no-foto-quadrado.jpg
END:VEVENT
BEGIN:VEVENT
DTSTART;TZID=America/Sao_Paulo:20250629T130000
DTEND;TZID=America/Sao_Paulo:20250629T170000
DTSTAMP:20260419T182623
CREATED:20250528T151612Z
LAST-MODIFIED:20250528T151612Z
UID:36884-1751202000-1751216400@intersantos.com.br
SUMMARY:Domingão Vermelhinho com Na Duo
DESCRIPTION:
URL:https://intersantos.com.br/calendario/domingao-vermelhinho-com-na-duo-5/
CATEGORIES:Almoço,Música
ATTACH;FMTTYPE=image/jpeg:https://intersantos.com.br/wp-content/uploads/2019/02/no-foto-quadrado.jpg
END:VEVENT
END:VCALENDAR