BEGIN:VCALENDAR
VERSION:2.0
PRODID:-//Clube Internacional de Regatas - ECPv6.15.20//NONSGML v1.0//EN
CALSCALE:GREGORIAN
METHOD:PUBLISH
X-WR-CALNAME:Clube Internacional de Regatas
X-ORIGINAL-URL:https://intersantos.com.br
X-WR-CALDESC:Eventos para Clube Internacional de Regatas
REFRESH-INTERVAL;VALUE=DURATION:PT1H
X-Robots-Tag:noindex
X-PUBLISHED-TTL:PT1H
BEGIN:VTIMEZONE
TZID:America/Sao_Paulo
BEGIN:STANDARD
TZOFFSETFROM:-0300
TZOFFSETTO:-0300
TZNAME:-03
DTSTART:20240101T000000
END:STANDARD
END:VTIMEZONE
BEGIN:VEVENT
DTSTART;VALUE=DATE:20250803
DTEND;VALUE=DATE:20250804
DTSTAMP:20260419T133034
CREATED:20250801T171600Z
LAST-MODIFIED:20250801T171600Z
UID:38095-1754179200-1754265599@intersantos.com.br
SUMMARY:Programação Esportiva e Social
DESCRIPTION:HORÁRIO DE FUNCIONAMENTO \n07h às 20h: Sede Social \n08h às 20h: Lanchonete Banzai \n12h às 20h: Restaurante \n08h às 16h: Secretaria \n09h às 15h: Balneários/SPA \n08h às 19h: Estacionamento \nFechada: Musculação \n09h às 18h: Barraca de Praia \n  \nNÁUTICA \n08h às 19h: Funcionamento \n08h às 17h: Secretaria \n08h30 às 12h e das 13h às 17h: descida de embarcações (rampa) \n09h30 às 18h30: Catraia (saídas a cada 30 minutos) \n09h às 19h: Restaurante \n  \nPISCINA SOCIAL \n10h às 18h \n  \nPISCINA SEMIOLÍMPICA \n08h às 16h: LIBERADO para recreação dos associados \n  \nGINÁSIO DE ESPORTES (Principal) \n08h às 19h: LIBERADO para recreação dos associados \n  \nGINÁSIO POLIESPORTIVO \n08h às 18h: Evento de KARATÊ \n18h às 19h: LIBERADO para recreação dos associados \n  \nMINI-GINÁSIO \nFechado para manutenção \n  \nTÊNIS DE CAMPO \n08h às 19h: LIBERADO para recreação dos associados. \n  \nCAMPO DE FUTEBOL \n8h às 19h: LIBERADO para recreação dos associados
URL:https://intersantos.com.br/calendario/programacao-esportiva-e-social-325/
CATEGORIES:Programação esportiva
ATTACH;FMTTYPE=image/jpeg:https://intersantos.com.br/wp-content/uploads/2019/02/no-foto-quadrado.jpg
END:VEVENT
BEGIN:VEVENT
DTSTART;TZID=America/Sao_Paulo:20250803T130000
DTEND;TZID=America/Sao_Paulo:20250803T170000
DTSTAMP:20260419T133034
CREATED:20250730T171845Z
LAST-MODIFIED:20250730T171845Z
UID:38061-1754226000-1754240400@intersantos.com.br
SUMMARY:Domingão Vermelhinho com Matheus Vasconcelos
DESCRIPTION:
URL:https://intersantos.com.br/calendario/domingao-vermelhinho-com-matheus-vasconcelos-4/
CATEGORIES:Almoço,Música
ATTACH;FMTTYPE=image/jpeg:https://intersantos.com.br/wp-content/uploads/2019/02/no-foto-quadrado.jpg
END:VEVENT
END:VCALENDAR