BEGIN:VCALENDAR
VERSION:2.0
PRODID:-//Clube Internacional de Regatas - ECPv6.15.20//NONSGML v1.0//EN
CALSCALE:GREGORIAN
METHOD:PUBLISH
X-ORIGINAL-URL:https://intersantos.com.br
X-WR-CALDESC:Eventos para Clube Internacional de Regatas
REFRESH-INTERVAL;VALUE=DURATION:PT1H
X-Robots-Tag:noindex
X-PUBLISHED-TTL:PT1H
BEGIN:VTIMEZONE
TZID:America/Sao_Paulo
BEGIN:STANDARD
TZOFFSETFROM:-0300
TZOFFSETTO:-0300
TZNAME:-03
DTSTART:20240101T000000
END:STANDARD
END:VTIMEZONE
BEGIN:VEVENT
DTSTART;VALUE=DATE:20250809
DTEND;VALUE=DATE:20250810
DTSTAMP:20260419T115525
CREATED:20250807T213156Z
LAST-MODIFIED:20250807T213156Z
UID:38236-1754697600-1754783999@intersantos.com.br
SUMMARY:Programação Esportiva e Social
DESCRIPTION:HORÁRIO DE FUNCIONAMENTO\n07h às 23h: Sede Social\n08h às 23h: Lanchonete Banzai\n12h às 23h: Restaurante\n08h às 23h: Secretaria\n09h às 20h: Balneários/SPA\n08h às 23h: Estacionamento\n08h às 13h: Musculação\nFechada: Barraca de Praia \nNÁUTICA\n08h às 19h: Funcionamento\n08h às 17h: Secretaria\n08h30 às 12h e das 13h às 17h: descida de embarcações (rampa)\n09h30 às 18h30: Catraia (saídas a cada 30 minutos)\n09h às 19h: Restaurante \nPISCINA SOCIAL\n10h às 18h \nPISCINA SEMIOLÍMPICA\n07h às 10h: Treino Equipe (NATAÇÃO)\n08h às 16h: LIBERADO para recreação esportiva dos associados \nGINÁSIO DE ESPORTES (Principal)\n08h às 09h: Treino Equipe (BASQUETE MASTER)\n09h às 10h: Montagem de Quadra (Basquete Master)\n10h às 14h: Recreação dos Associados (BASQUETE MASTER)\n15h às 18h: Treino Equipe (HÓQUEI)\n18h às 22h: LIBERADO para recreação dos associados \nGINÁSIO POLIESPORTIVO\n07h às 09h: Treino Equipe (VÔLEI FEM)\n09h às 10h: Reposição de aula- vôlei adulto\n10h às 13h: Campeonato Paulista vôlei feminino\n13h às 22h: LIBERADO para recreação dos associado \nMINI-GINÁSIO\nFechado para manutenção \nTÊNIS DE CAMPO\n08h às 22h: LIBERADO para recreação dos associados- Quadras 3 e 4\n14h às 18h: Torneio Interclubes PF1-B- Quadras 2 ou 6 e 7 \nCAMPO DE FUTEBOL\n08h às 15h: LIBERADO para recreação dos associados\n15h às 18h: Recreação FUTEBOL MASTER
URL:https://intersantos.com.br/calendario/programacao-esportiva-e-social-326/
CATEGORIES:Programação esportiva
ATTACH;FMTTYPE=image/jpeg:https://intersantos.com.br/wp-content/uploads/2019/02/no-foto-quadrado.jpg
END:VEVENT
END:VCALENDAR