BEGIN:VCALENDAR
VERSION:2.0
PRODID:-//Clube Internacional de Regatas - ECPv6.15.20//NONSGML v1.0//EN
CALSCALE:GREGORIAN
METHOD:PUBLISH
X-ORIGINAL-URL:https://intersantos.com.br
X-WR-CALDESC:Eventos para Clube Internacional de Regatas
REFRESH-INTERVAL;VALUE=DURATION:PT1H
X-Robots-Tag:noindex
X-PUBLISHED-TTL:PT1H
BEGIN:VTIMEZONE
TZID:America/Sao_Paulo
BEGIN:STANDARD
TZOFFSETFROM:-0300
TZOFFSETTO:-0300
TZNAME:-03
DTSTART:20220101T000000
END:STANDARD
END:VTIMEZONE
BEGIN:VEVENT
DTSTART;TZID=America/Sao_Paulo:20230813T130000
DTEND;TZID=America/Sao_Paulo:20230813T170000
DTSTAMP:20260419T151144
CREATED:20230721T145239Z
LAST-MODIFIED:20230721T145239Z
UID:25889-1691931600-1691946000@intersantos.com.br
SUMMARY:Dia dos Pais: música ao vivo na área social com Tim Cardoso
DESCRIPTION:
URL:https://intersantos.com.br/calendario/dia-dos-pais-musica-ao-vivo-na-area-social-com-tim-cardoso/
CATEGORIES:Música
ATTACH;FMTTYPE=image/jpeg:https://intersantos.com.br/wp-content/uploads/2019/02/no-foto-quadrado.jpg
END:VEVENT
END:VCALENDAR