BEGIN:VCALENDAR
VERSION:2.0
PRODID:-//Clube Internacional de Regatas - ECPv6.15.20//NONSGML v1.0//EN
CALSCALE:GREGORIAN
METHOD:PUBLISH
X-WR-CALNAME:Clube Internacional de Regatas
X-ORIGINAL-URL:https://intersantos.com.br
X-WR-CALDESC:Eventos para Clube Internacional de Regatas
REFRESH-INTERVAL;VALUE=DURATION:PT1H
X-Robots-Tag:noindex
X-PUBLISHED-TTL:PT1H
BEGIN:VTIMEZONE
TZID:America/Sao_Paulo
BEGIN:STANDARD
TZOFFSETFROM:-0300
TZOFFSETTO:-0300
TZNAME:-03
DTSTART:20210101T000000
END:STANDARD
END:VTIMEZONE
BEGIN:VEVENT
DTSTART;TZID=America/Sao_Paulo:20220227T140000
DTEND;TZID=America/Sao_Paulo:20220227T170000
DTSTAMP:20260419T192749
CREATED:20220225T004011Z
LAST-MODIFIED:20220225T005546Z
UID:17331-1645970400-1645981200@intersantos.com.br
SUMMARY:Grupo De Jeito Maneira
DESCRIPTION:
URL:https://intersantos.com.br/calendario/grupo-de-jeito-maneira/
CATEGORIES:Samba & Pagode
ATTACH;FMTTYPE=image/jpeg:https://intersantos.com.br/wp-content/uploads/2022/02/WhatsApp-Image-2022-02-23-at-13.45.21.jpeg
END:VEVENT
END:VCALENDAR