BEGIN:VCALENDAR
VERSION:2.0
PRODID:-//Clube Internacional de Regatas - ECPv6.15.20//NONSGML v1.0//EN
CALSCALE:GREGORIAN
METHOD:PUBLISH
X-ORIGINAL-URL:https://intersantos.com.br
X-WR-CALDESC:Eventos para Clube Internacional de Regatas
REFRESH-INTERVAL;VALUE=DURATION:PT1H
X-Robots-Tag:noindex
X-PUBLISHED-TTL:PT1H
BEGIN:VTIMEZONE
TZID:America/Sao_Paulo
BEGIN:STANDARD
TZOFFSETFROM:-0200
TZOFFSETTO:-0300
TZNAME:-03
DTSTART:20180218T020000
END:STANDARD
BEGIN:DAYLIGHT
TZOFFSETFROM:-0300
TZOFFSETTO:-0200
TZNAME:-02
DTSTART:20181104T030000
END:DAYLIGHT
BEGIN:STANDARD
TZOFFSETFROM:-0200
TZOFFSETTO:-0300
TZNAME:-03
DTSTART:20190217T020000
END:STANDARD
END:VTIMEZONE
BEGIN:VEVENT
DTSTART;TZID=America/Sao_Paulo:20190203T130000
DTEND;TZID=America/Sao_Paulo:20190203T170000
DTSTAMP:20260422T073937
CREATED:20190117T164710Z
LAST-MODIFIED:20190117T164710Z
UID:10801-1549198800-1549213200@intersantos.com.br
SUMMARY:Discotecagem com Sérgio Dias\, na Piscina Social
DESCRIPTION:
URL:https://intersantos.com.br/calendario/discotecagem-com-sergio-dias-na-piscina-social-3/
CATEGORIES:Clube
ATTACH;FMTTYPE=image/png:https://intersantos.com.br/wp-content/uploads/2019/01/LaPlaya_CIR_Discotecagem_Site.png
END:VEVENT
BEGIN:VEVENT
DTSTART;TZID=America/Sao_Paulo:20190210T130000
DTEND;TZID=America/Sao_Paulo:20190210T170000
DTSTAMP:20260422T073937
CREATED:20190117T164752Z
LAST-MODIFIED:20190117T164752Z
UID:10802-1549803600-1549818000@intersantos.com.br
SUMMARY:Discotecagem com Sérgio Dias\, na Piscina Social
DESCRIPTION:
URL:https://intersantos.com.br/calendario/discotecagem-com-sergio-dias-na-piscina-social-4/
CATEGORIES:Clube
ATTACH;FMTTYPE=image/png:https://intersantos.com.br/wp-content/uploads/2019/01/LaPlaya_CIR_Discotecagem_Site.png
END:VEVENT
BEGIN:VEVENT
DTSTART;TZID=America/Sao_Paulo:20190216T120000
DTEND;TZID=America/Sao_Paulo:20190216T160000
DTSTAMP:20260422T073937
CREATED:20190212T164224Z
LAST-MODIFIED:20190212T164224Z
UID:10937-1550318400-1550332800@intersantos.com.br
SUMMARY:Cardápio do Quilo
DESCRIPTION:  \nConfira o Confira o cardápio do quilo do El Club Restaurante e Pizzaria para 16 de fevereiro \nSaladas\nSalada Folhas Verdes\nSalada de tomate e cebola\nCenoura e Beterraba\nCarpaccio de carne\nQuiche de alho poró\nSalpicão de Frango\nOvo de codorna natural\nMolho Vinagrete \nPratos Quentes:\nArroz branco\nArroz à grega\nFeijão.\nRondelli Presunto e queijo\nEspaguete à Bolonhesa\nPeixe à dorê\nMedalhão de mignon molho madeira\nFile de frango molho mostarda\nCreme de palmito no canudinho\nSalgadinhos Variados\nBatata Fritas
URL:https://intersantos.com.br/calendario/cardapio-do-quilo-6/
CATEGORIES:Almoço,Clube
ATTACH;FMTTYPE=image/jpeg:https://intersantos.com.br/wp-content/uploads/2019/02/WhatsApp-Image-2019-01-02-at-19.28.46.jpeg
ORGANIZER;CN="Depto Social Clube Internacional de Regatas":MAILTO:social@inter.org.br
END:VEVENT
BEGIN:VEVENT
DTSTART;TZID=America/Sao_Paulo:20190217T120000
DTEND;TZID=America/Sao_Paulo:20190217T160000
DTSTAMP:20260422T073937
CREATED:20190212T164801Z
LAST-MODIFIED:20190212T164801Z
UID:10940-1550404800-1550419200@intersantos.com.br
SUMMARY:Cardápio do Quilo
DESCRIPTION:  \nConfira o Confira o cardápio do quilo do El Club Restaurante e Pizzaria para 17 de fevereiro \nSaladas\nSalada Folhas Verdes\nSalada de tomate e cebola\nCenoura e Beterraba\nCarpaccio de carne\nQuiche de alho poró\nSalpicão de Frango\nOvo de codorna natural\nMolho Vinagrete \nPratos Quentes:\nArroz branco\nArroz à grega\nFeijão.\nRondelli Presunto e queijo\nEspaguete à Bolonhesa\nPeixe à dorê\nMedalhão de mignon molho madeira\nFile de frango molho mostarda\nCreme de palmito no canudinho\nSalgadinhos Variados\nBatata Fritas
URL:https://intersantos.com.br/calendario/cardapio-do-quilo-6-2/
CATEGORIES:Almoço,Clube
ATTACH;FMTTYPE=image/jpeg:https://intersantos.com.br/wp-content/uploads/2019/02/WhatsApp-Image-2019-01-02-at-19.28.46.jpeg
ORGANIZER;CN="Depto Social Clube Internacional de Regatas":MAILTO:social@inter.org.br
END:VEVENT
BEGIN:VEVENT
DTSTART;TZID=America/Sao_Paulo:20190217T130000
DTEND;TZID=America/Sao_Paulo:20190217T170000
DTSTAMP:20260422T073937
CREATED:20190117T165401Z
LAST-MODIFIED:20190117T165401Z
UID:10804-1550408400-1550422800@intersantos.com.br
SUMMARY:Discotecagem com Sérgio Dias\, na Piscina Social
DESCRIPTION:
URL:https://intersantos.com.br/calendario/discotecagem-com-sergio-dias-na-piscina-social-5/
CATEGORIES:Clube
ATTACH;FMTTYPE=image/png:https://intersantos.com.br/wp-content/uploads/2019/01/LaPlaya_CIR_Discotecagem_Site.png
END:VEVENT
BEGIN:VEVENT
DTSTART;TZID=America/Sao_Paulo:20190222T210000
DTEND;TZID=America/Sao_Paulo:20190222T233000
DTSTAMP:20260422T073937
CREATED:20190212T190910Z
LAST-MODIFIED:20190218T185357Z
UID:10953-1550869200-1550878200@intersantos.com.br
SUMMARY:Carnaval 2019 Grito de Carnaval com Grupo Tempero
DESCRIPTION:  \nSaiba mais aqui: Carnaval 2019 antecipa chegada do Inter
URL:https://intersantos.com.br/calendario/grito-de-carnaval-com-grupo-temprero/
CATEGORIES:Clube,Música,Samba & Pagode,Senadinho
ATTACH;FMTTYPE=image/png:https://intersantos.com.br/wp-content/uploads/2019/02/LaPlaya_CIR_Carnaval_RS.png
END:VEVENT
BEGIN:VEVENT
DTSTART;TZID=America/Sao_Paulo:20190223T090000
DTEND;TZID=America/Sao_Paulo:20190223T120000
DTSTAMP:20260422T073937
CREATED:20190212T200056Z
LAST-MODIFIED:20190212T200203Z
UID:10956-1550912400-1550923200@intersantos.com.br
SUMMARY:Seletiva de Natação
DESCRIPTION:A Divisão de Natação do Clube Internacional de Regatas realizará seletiva para crianças nascidas entre 2009 e 2012\, em 23 de fevereiro\, a partir das 9h\, na piscina semiolímpica. \nOs atletas selecionados farão parte da equipe de competição\, que representará o Inter em Campeonatos Nacionais\, Estaduais e Regionais. A avaliação será coordenada pelos técnicos da modalidade Isabel Ferreira\, Mauricio Ruiz e Paulo Sérgio Fernandes. \nAs inscrições devem ser confirmadas pelo e-mail natação@inter.org.br. No dia da peneira\, o candidato deve vestir traje de banho\, apresentar documento de identidade e ainda poderá colaborar com 1 litro de leite integral\, que será doado ao Projeto Navegantes da Esperança. \nMais informações pelo mesmo e-mail ou pelo telefone (13) 3269-6900. \nEscolinha\nA natação é um esporte completo\, pois desenvolve o corpo inteiro. Uma das vantagens é que a prática não causa impacto nas articulações e musculatura. Além disso\, proporciona recondicionamento cardiorrespiratório e fortalece os membros superiores e inferiores do corpo. \nNo Inter\, as aulas ocorrem na piscina semiolímpica e aquecida. Os horários são abertos para turmas infantis e adultas. Saiba mais informações sobre horários e valores aqui
URL:https://intersantos.com.br/calendario/seletiva-de-natacao/
CATEGORIES:Campeonato,Clube
ATTACH;FMTTYPE=image/jpeg:https://intersantos.com.br/wp-content/uploads/2019/02/peneira-site.jpeg
END:VEVENT
BEGIN:VEVENT
DTSTART;TZID=America/Sao_Paulo:20190223T150000
DTEND;TZID=America/Sao_Paulo:20190223T190000
DTSTAMP:20260422T073937
CREATED:20190218T181039Z
LAST-MODIFIED:20190218T184641Z
UID:10990-1550934000-1550948400@intersantos.com.br
SUMMARY:Carnaval 2019- Charanga o General da Banda
DESCRIPTION:  \nSaiba mais aqui: Carnaval 2019 antecipa chegada do Inter
URL:https://intersantos.com.br/calendario/10990/
CATEGORIES:Clube,Samba & Pagode
ATTACH;FMTTYPE=image/png:https://intersantos.com.br/wp-content/uploads/2019/02/LaPlaya_CIR_Carnaval_RS.png
END:VEVENT
BEGIN:VEVENT
DTSTART;TZID=America/Sao_Paulo:20190224T130000
DTEND;TZID=America/Sao_Paulo:20190224T170000
DTSTAMP:20260422T073937
CREATED:20190117T165726Z
LAST-MODIFIED:20190218T185344Z
UID:10803-1551013200-1551027600@intersantos.com.br
SUMMARY:Carnaval 2019 Piscina Social
DESCRIPTION:  \nSaiba mais aqui: Carnaval 2019 antecipa chegada do Inter
URL:https://intersantos.com.br/calendario/discotecagem-com-sergio-dias-na-piscina-social-6/
CATEGORIES:Clube
ATTACH;FMTTYPE=image/png:https://intersantos.com.br/wp-content/uploads/2019/01/LaPlaya_CIR_Discotecagem_Site.png
END:VEVENT
END:VCALENDAR