BEGIN:VCALENDAR
VERSION:2.0
PRODID:-//Clube Internacional de Regatas - ECPv6.15.20//NONSGML v1.0//EN
CALSCALE:GREGORIAN
METHOD:PUBLISH
X-WR-CALNAME:Clube Internacional de Regatas
X-ORIGINAL-URL:https://intersantos.com.br
X-WR-CALDESC:Eventos para Clube Internacional de Regatas
REFRESH-INTERVAL;VALUE=DURATION:PT1H
X-Robots-Tag:noindex
X-PUBLISHED-TTL:PT1H
BEGIN:VTIMEZONE
TZID:America/Sao_Paulo
BEGIN:STANDARD
TZOFFSETFROM:-0200
TZOFFSETTO:-0300
TZNAME:-03
DTSTART:20180218T020000
END:STANDARD
BEGIN:DAYLIGHT
TZOFFSETFROM:-0300
TZOFFSETTO:-0200
TZNAME:-02
DTSTART:20181104T030000
END:DAYLIGHT
BEGIN:STANDARD
TZOFFSETFROM:-0200
TZOFFSETTO:-0300
TZNAME:-03
DTSTART:20190217T020000
END:STANDARD
END:VTIMEZONE
BEGIN:VEVENT
DTSTART;TZID=America/Sao_Paulo:20190406T160000
DTEND;TZID=America/Sao_Paulo:20190406T180000
DTSTAMP:20260420T041043
CREATED:20190402T175713Z
LAST-MODIFIED:20190403T161032Z
UID:11339-1554566400-1554573600@intersantos.com.br
SUMMARY:Samba na Árvore
DESCRIPTION:
URL:https://intersantos.com.br/calendario/samba-na-arvore/
CATEGORIES:Clube,Música,Samba & Pagode
ATTACH;FMTTYPE=image/png:https://intersantos.com.br/wp-content/uploads/2019/04/LaPlaya_CIR_SambaNaArvore_TV.png
END:VEVENT
END:VCALENDAR