BEGIN:VCALENDAR
VERSION:2.0
PRODID:-//Clube Internacional de Regatas - ECPv6.15.20//NONSGML v1.0//EN
CALSCALE:GREGORIAN
METHOD:PUBLISH
X-WR-CALNAME:Clube Internacional de Regatas
X-ORIGINAL-URL:https://intersantos.com.br
X-WR-CALDESC:Eventos para Clube Internacional de Regatas
REFRESH-INTERVAL;VALUE=DURATION:PT1H
X-Robots-Tag:noindex
X-PUBLISHED-TTL:PT1H
BEGIN:VTIMEZONE
TZID:America/Sao_Paulo
BEGIN:STANDARD
TZOFFSETFROM:-0200
TZOFFSETTO:-0300
TZNAME:-03
DTSTART:20180218T020000
END:STANDARD
BEGIN:DAYLIGHT
TZOFFSETFROM:-0300
TZOFFSETTO:-0200
TZNAME:-02
DTSTART:20181104T030000
END:DAYLIGHT
BEGIN:STANDARD
TZOFFSETFROM:-0200
TZOFFSETTO:-0300
TZNAME:-03
DTSTART:20190217T020000
END:STANDARD
END:VTIMEZONE
BEGIN:VEVENT
DTSTART;TZID=America/Sao_Paulo:20190511T100000
DTEND;TZID=America/Sao_Paulo:20190511T180000
DTSTAMP:20260420T004808
CREATED:20190508T193757Z
LAST-MODIFIED:20190508T193757Z
UID:11663-1557568800-1557597600@intersantos.com.br
SUMMARY:Feira do Livro
DESCRIPTION:Com o objetivo de incentivar a leitura e a troca de conhecimento\, o Clube Internacional de Regatas receberá a Feira do Livro\, em 11 de maio\, das 10h às 18h\, na área social. \nA iniciativa é idealizada pela Livraria e Papelaria Águia de Ouro\, que na ocasião irá vender livros com preços especiais para os associados do Inter.
URL:https://intersantos.com.br/calendario/feira-do-livro/
CATEGORIES:Clube
ATTACH;FMTTYPE=image/jpeg:https://intersantos.com.br/wp-content/uploads/2019/05/LaPlaya_CIR_FeiroLivro_CartazA3-1.jpg
END:VEVENT
BEGIN:VEVENT
DTSTART;TZID=America/Sao_Paulo:20190512T120000
DTEND;TZID=America/Sao_Paulo:20190512T170000
DTSTAMP:20260420T004808
CREATED:20190430T153410Z
LAST-MODIFIED:20190430T153459Z
UID:11580-1557662400-1557680400@intersantos.com.br
SUMMARY:Dia das Mães
DESCRIPTION:
URL:https://intersantos.com.br/calendario/dia-das-maes/
CATEGORIES:Almoço,Clube
ATTACH;FMTTYPE=image/jpeg:https://intersantos.com.br/wp-content/uploads/2019/04/LaPlaya_CIR_DiaDasMaes_CartazA3-1.jpg
END:VEVENT
BEGIN:VEVENT
DTSTART;TZID=America/Sao_Paulo:20190525T160000
DTEND;TZID=America/Sao_Paulo:20190525T190000
DTSTAMP:20260420T004808
CREATED:20190422T193656Z
LAST-MODIFIED:20190430T154201Z
UID:11512-1558800000-1558810800@intersantos.com.br
SUMMARY:Aniversário do Clube: Banda Koala Joe
DESCRIPTION:
URL:https://intersantos.com.br/calendario/apresentacao-com-banda-koala-joe/
CATEGORIES:Clube,Música
ATTACH;FMTTYPE=image/jpeg:https://intersantos.com.br/wp-content/uploads/2019/04/LaPlaya_CIR_Feijoada_CartazA3-1.jpg
END:VEVENT
BEGIN:VEVENT
DTSTART;TZID=America/Sao_Paulo:20190525T190000
DTEND;TZID=America/Sao_Paulo:20190525T220000
DTSTAMP:20260420T004808
CREATED:20190422T193917Z
LAST-MODIFIED:20190430T154006Z
UID:11515-1558810800-1558821600@intersantos.com.br
SUMMARY:Aniversário do Clube: Tributo- Queen Cover
DESCRIPTION:
URL:https://intersantos.com.br/calendario/aniversario-do-clube-tributo-queen-cover/
CATEGORIES:Clube,Música
ATTACH;FMTTYPE=image/jpeg:https://intersantos.com.br/wp-content/uploads/2019/04/LaPlaya_CIR_Feijoada_CartazA3-1.jpg
END:VEVENT
END:VCALENDAR