BEGIN:VCALENDAR
VERSION:2.0
PRODID:-//Clube Internacional de Regatas - ECPv6.15.20//NONSGML v1.0//EN
CALSCALE:GREGORIAN
METHOD:PUBLISH
X-ORIGINAL-URL:https://intersantos.com.br
X-WR-CALDESC:Eventos para Clube Internacional de Regatas
REFRESH-INTERVAL;VALUE=DURATION:PT1H
X-Robots-Tag:noindex
X-PUBLISHED-TTL:PT1H
BEGIN:VTIMEZONE
TZID:America/Sao_Paulo
BEGIN:STANDARD
TZOFFSETFROM:-0200
TZOFFSETTO:-0300
TZNAME:-03
DTSTART:20180218T020000
END:STANDARD
BEGIN:DAYLIGHT
TZOFFSETFROM:-0300
TZOFFSETTO:-0200
TZNAME:-02
DTSTART:20181104T030000
END:DAYLIGHT
BEGIN:STANDARD
TZOFFSETFROM:-0200
TZOFFSETTO:-0300
TZNAME:-03
DTSTART:20190217T020000
END:STANDARD
END:VTIMEZONE
BEGIN:VEVENT
DTSTART;VALUE=DATE:20191216
DTEND;VALUE=DATE:20191217
DTSTAMP:20260419T131449
CREATED:20191211T180108Z
LAST-MODIFIED:20191211T180108Z
UID:13293-1576454400-1576540799@intersantos.com.br
SUMMARY:Clube Fechado- Confraternização dos funcionários
DESCRIPTION:Em virtude das comemorações de fim de ano\, o Clube Internacional de Regatas terá alterações na programação. \nNa próxima segunda-feira\, dia 16 de dezembro\, o Clube ficará fechado para realização da confraternização dos colaboradores.
URL:https://intersantos.com.br/calendario/clube-fechado-confraternizacao-dos-funcionarios/
CATEGORIES:Clube
ATTACH;FMTTYPE=image/jpeg:https://intersantos.com.br/wp-content/uploads/2016/03/aviso.jpg
END:VEVENT
BEGIN:VEVENT
DTSTART;VALUE=DATE:20191224
DTEND;VALUE=DATE:20191225
DTSTAMP:20260419T131449
CREATED:20191218T181810Z
LAST-MODIFIED:20191218T181810Z
UID:13339-1577145600-1577231999@intersantos.com.br
SUMMARY:Clube Fechado
DESCRIPTION:Aviso Vermelhinho- programação de fim de ano
URL:https://intersantos.com.br/calendario/clube-fechado/
CATEGORIES:Clube
ATTACH;FMTTYPE=image/jpeg:https://intersantos.com.br/wp-content/uploads/2016/03/aviso.jpg
END:VEVENT
BEGIN:VEVENT
DTSTART;VALUE=DATE:20191225
DTEND;VALUE=DATE:20191226
DTSTAMP:20260419T131449
CREATED:20191218T182309Z
LAST-MODIFIED:20191218T182309Z
UID:13341-1577232000-1577318399@intersantos.com.br
SUMMARY:Clube Fechado
DESCRIPTION:Aviso Vermelhinho- programação de fim de ano
URL:https://intersantos.com.br/calendario/clube-fechado-2/
CATEGORIES:Clube
ATTACH;FMTTYPE=image/jpeg:https://intersantos.com.br/wp-content/uploads/2016/03/aviso.jpg
END:VEVENT
BEGIN:VEVENT
DTSTART;VALUE=DATE:20191231
DTEND;VALUE=DATE:20200101
DTSTAMP:20260419T131449
CREATED:20191218T182402Z
LAST-MODIFIED:20191218T182402Z
UID:13343-1577750400-1577836799@intersantos.com.br
SUMMARY:Clube Fechado
DESCRIPTION:Aviso Vermelhinho- programação de fim de ano
URL:https://intersantos.com.br/calendario/clube-fechado-3/
CATEGORIES:Clube
ATTACH;FMTTYPE=image/jpeg:https://intersantos.com.br/wp-content/uploads/2016/03/aviso.jpg
END:VEVENT
BEGIN:VEVENT
DTSTART;TZID=America/Sao_Paulo:20191231T210000
DTEND;TZID=America/Sao_Paulo:20191231T233000
DTSTAMP:20260419T131449
CREATED:20191111T153025Z
LAST-MODIFIED:20191111T153025Z
UID:13004-1577826000-1577835000@intersantos.com.br
SUMMARY:Réveillon da Barrada de Praia
DESCRIPTION:Reveillon na Barraca de Praia do Inter
URL:https://intersantos.com.br/calendario/reveillon-da-barrada-de-praia/
CATEGORIES:Clube,Praia
ATTACH;FMTTYPE=image/jpeg:https://intersantos.com.br/wp-content/uploads/2019/11/WhatsApp-Image-2019-11-10-at-20.53.03.jpeg
END:VEVENT
END:VCALENDAR