BEGIN:VCALENDAR
VERSION:2.0
PRODID:-//Clube Internacional de Regatas - ECPv6.15.20//NONSGML v1.0//EN
CALSCALE:GREGORIAN
METHOD:PUBLISH
X-WR-CALNAME:Clube Internacional de Regatas
X-ORIGINAL-URL:https://intersantos.com.br
X-WR-CALDESC:Eventos para Clube Internacional de Regatas
REFRESH-INTERVAL;VALUE=DURATION:PT1H
X-Robots-Tag:noindex
X-PUBLISHED-TTL:PT1H
BEGIN:VTIMEZONE
TZID:America/Sao_Paulo
BEGIN:STANDARD
TZOFFSETFROM:-0200
TZOFFSETTO:-0300
TZNAME:-03
DTSTART:20190217T020000
END:STANDARD
END:VTIMEZONE
BEGIN:VEVENT
DTSTART;VALUE=DATE:20200101
DTEND;VALUE=DATE:20200102
DTSTAMP:20260419T113728
CREATED:20191218T182522Z
LAST-MODIFIED:20191218T182522Z
UID:13346-1577836800-1577923199@intersantos.com.br
SUMMARY:Clube Fechado
DESCRIPTION:Aviso Vermelhinho- programação de fim de ano
URL:https://intersantos.com.br/calendario/clube-fechado-4/
CATEGORIES:Clube
ATTACH;FMTTYPE=image/jpeg:https://intersantos.com.br/wp-content/uploads/2016/03/aviso.jpg
END:VEVENT
BEGIN:VEVENT
DTSTART;TZID=America/Sao_Paulo:20200105T130000
DTEND;TZID=America/Sao_Paulo:20200105T170000
DTSTAMP:20260419T113728
CREATED:20200107T214823Z
LAST-MODIFIED:20200107T214823Z
UID:13415-1578229200-1578243600@intersantos.com.br
SUMMARY:Som na Piscina Social
DESCRIPTION:
URL:https://intersantos.com.br/calendario/som-na-piscina-social/
CATEGORIES:Clube,Música
ATTACH;FMTTYPE=image/jpeg:https://intersantos.com.br/wp-content/uploads/2020/01/WhatsApp-Image-2019-12-20-at-15.04.47-1.jpeg
END:VEVENT
BEGIN:VEVENT
DTSTART;TZID=America/Sao_Paulo:20200112T130000
DTEND;TZID=America/Sao_Paulo:20200112T170000
DTSTAMP:20260419T113728
CREATED:20200107T215036Z
LAST-MODIFIED:20200107T215036Z
UID:13418-1578834000-1578848400@intersantos.com.br
SUMMARY:Som na Piscina Social
DESCRIPTION:
URL:https://intersantos.com.br/calendario/som-na-piscina-social-2/
CATEGORIES:Clube,Música
ATTACH;FMTTYPE=image/jpeg:https://intersantos.com.br/wp-content/uploads/2020/01/WhatsApp-Image-2019-12-20-at-15.04.47-1.jpeg
END:VEVENT
BEGIN:VEVENT
DTSTART;TZID=America/Sao_Paulo:20200119T130000
DTEND;TZID=America/Sao_Paulo:20200119T170000
DTSTAMP:20260419T113728
CREATED:20200107T215104Z
LAST-MODIFIED:20200107T215104Z
UID:13419-1579438800-1579453200@intersantos.com.br
SUMMARY:Som na Piscina Social
DESCRIPTION:
URL:https://intersantos.com.br/calendario/som-na-piscina-social-3/
CATEGORIES:Clube,Música
ATTACH;FMTTYPE=image/jpeg:https://intersantos.com.br/wp-content/uploads/2020/01/WhatsApp-Image-2019-12-20-at-15.04.47-1.jpeg
END:VEVENT
BEGIN:VEVENT
DTSTART;TZID=America/Sao_Paulo:20200126T130000
DTEND;TZID=America/Sao_Paulo:20200126T170000
DTSTAMP:20260419T113728
CREATED:20200107T215132Z
LAST-MODIFIED:20200107T215132Z
UID:13420-1580043600-1580058000@intersantos.com.br
SUMMARY:Som na Piscina Social
DESCRIPTION:
URL:https://intersantos.com.br/calendario/som-na-piscina-social-4/
CATEGORIES:Clube,Música
ATTACH;FMTTYPE=image/jpeg:https://intersantos.com.br/wp-content/uploads/2020/01/WhatsApp-Image-2019-12-20-at-15.04.47-1.jpeg
END:VEVENT
END:VCALENDAR