BEGIN:VCALENDAR
VERSION:2.0
PRODID:-//Clube Internacional de Regatas - ECPv6.15.20//NONSGML v1.0//EN
CALSCALE:GREGORIAN
METHOD:PUBLISH
X-ORIGINAL-URL:https://intersantos.com.br
X-WR-CALDESC:Eventos para Clube Internacional de Regatas
REFRESH-INTERVAL;VALUE=DURATION:PT1H
X-Robots-Tag:noindex
X-PUBLISHED-TTL:PT1H
BEGIN:VTIMEZONE
TZID:America/Sao_Paulo
BEGIN:STANDARD
TZOFFSETFROM:-0200
TZOFFSETTO:-0300
TZNAME:-03
DTSTART:20180218T020000
END:STANDARD
BEGIN:DAYLIGHT
TZOFFSETFROM:-0300
TZOFFSETTO:-0200
TZNAME:-02
DTSTART:20181104T030000
END:DAYLIGHT
BEGIN:STANDARD
TZOFFSETFROM:-0200
TZOFFSETTO:-0300
TZNAME:-03
DTSTART:20190217T020000
END:STANDARD
END:VTIMEZONE
BEGIN:VEVENT
DTSTART;TZID=America/Sao_Paulo:20190127T130000
DTEND;TZID=America/Sao_Paulo:20190127T170000
DTSTAMP:20260422T084837
CREATED:20190117T164235Z
LAST-MODIFIED:20190117T164338Z
UID:10796-1548594000-1548608400@intersantos.com.br
SUMMARY:Discotecagem com Sérgio Dias\, na Piscina Social
DESCRIPTION:
URL:https://intersantos.com.br/calendario/discotecagem-com-sergio-dias-na-piscina-social/
CATEGORIES:Clube
ATTACH;FMTTYPE=image/png:https://intersantos.com.br/wp-content/uploads/2019/01/LaPlaya_CIR_Discotecagem_Site.png
END:VEVENT
END:VCALENDAR