BEGIN:VCALENDAR
VERSION:2.0
PRODID:-//Clube Internacional de Regatas - ECPv6.15.20//NONSGML v1.0//EN
CALSCALE:GREGORIAN
METHOD:PUBLISH
X-ORIGINAL-URL:https://intersantos.com.br
X-WR-CALDESC:Eventos para Clube Internacional de Regatas
REFRESH-INTERVAL;VALUE=DURATION:PT1H
X-Robots-Tag:noindex
X-PUBLISHED-TTL:PT1H
BEGIN:VTIMEZONE
TZID:America/Sao_Paulo
BEGIN:STANDARD
TZOFFSETFROM:-0200
TZOFFSETTO:-0300
TZNAME:-03
DTSTART:20180218T020000
END:STANDARD
BEGIN:DAYLIGHT
TZOFFSETFROM:-0300
TZOFFSETTO:-0200
TZNAME:-02
DTSTART:20181104T030000
END:DAYLIGHT
BEGIN:STANDARD
TZOFFSETFROM:-0200
TZOFFSETTO:-0300
TZNAME:-03
DTSTART:20190217T020000
END:STANDARD
END:VTIMEZONE
BEGIN:VEVENT
DTSTART;TZID=America/Sao_Paulo:20190627T190000
DTEND;TZID=America/Sao_Paulo:20190627T233000
DTSTAMP:20260420T005105
CREATED:20190606T231924Z
LAST-MODIFIED:20190606T231947Z
UID:11895-1561662000-1561678200@intersantos.com.br
SUMMARY:Festa Junina com Banda Nandox
DESCRIPTION:Clube Internacional realiza seis dias de Festa Junina
URL:https://intersantos.com.br/calendario/11885-2-3/
CATEGORIES:Clube
ATTACH;FMTTYPE=image/jpeg:https://intersantos.com.br/wp-content/uploads/2019/06/LaPlaya_CIR_FestaJunina_A3-1.jpg
END:VEVENT
END:VCALENDAR