BEGIN:VCALENDAR
VERSION:2.0
PRODID:-//Clube Internacional de Regatas - ECPv6.15.20//NONSGML v1.0//EN
CALSCALE:GREGORIAN
METHOD:PUBLISH
X-WR-CALNAME:Clube Internacional de Regatas
X-ORIGINAL-URL:https://intersantos.com.br
X-WR-CALDESC:Eventos para Clube Internacional de Regatas
REFRESH-INTERVAL;VALUE=DURATION:PT1H
X-Robots-Tag:noindex
X-PUBLISHED-TTL:PT1H
BEGIN:VTIMEZONE
TZID:America/Sao_Paulo
BEGIN:STANDARD
TZOFFSETFROM:-0200
TZOFFSETTO:-0300
TZNAME:-03
DTSTART:20180218T020000
END:STANDARD
BEGIN:DAYLIGHT
TZOFFSETFROM:-0300
TZOFFSETTO:-0200
TZNAME:-02
DTSTART:20181104T030000
END:DAYLIGHT
BEGIN:STANDARD
TZOFFSETFROM:-0200
TZOFFSETTO:-0300
TZNAME:-03
DTSTART:20190217T020000
END:STANDARD
END:VTIMEZONE
BEGIN:VEVENT
DTSTART;TZID=America/Sao_Paulo:20190718T090000
DTEND;TZID=America/Sao_Paulo:20190718T163000
DTSTAMP:20260420T002903
CREATED:20190702T171222Z
LAST-MODIFIED:20190702T171222Z
UID:11986-1563440400-1563467400@intersantos.com.br
SUMMARY:Curso de Férias
DESCRIPTION:– Brincando: Games e Gincanas\n– Oficina de Biscoito\n– Guerra Monstra (levar roupa para sujar)\n– Escorregando na magia do Sabão (levar roupa de piscina e outra para troca)\n– Caça ao tesouro da Caverna (levar lanterna ou qualquer material de aventura) \nO pessoal da Conka Recreação será responsável pela diversão da garotada nessas Férias de Julho. Confira a programação e orientações para não perder nenhuma brincadeira: https://bit.ly/30c9hst
URL:https://intersantos.com.br/calendario/curso-de-ferias-6/
CATEGORIES:Clube
ATTACH;FMTTYPE=image/jpeg:https://intersantos.com.br/wp-content/uploads/2019/02/no-foto-quadrado.jpg
END:VEVENT
END:VCALENDAR