BEGIN:VCALENDAR
VERSION:2.0
PRODID:-//Clube Internacional de Regatas - ECPv6.15.20//NONSGML v1.0//EN
CALSCALE:GREGORIAN
METHOD:PUBLISH
X-ORIGINAL-URL:https://intersantos.com.br
X-WR-CALDESC:Eventos para Clube Internacional de Regatas
REFRESH-INTERVAL;VALUE=DURATION:PT1H
X-Robots-Tag:noindex
X-PUBLISHED-TTL:PT1H
BEGIN:VTIMEZONE
TZID:America/Sao_Paulo
BEGIN:STANDARD
TZOFFSETFROM:-0200
TZOFFSETTO:-0300
TZNAME:-03
DTSTART:20180218T020000
END:STANDARD
BEGIN:DAYLIGHT
TZOFFSETFROM:-0300
TZOFFSETTO:-0200
TZNAME:-02
DTSTART:20181104T030000
END:DAYLIGHT
BEGIN:STANDARD
TZOFFSETFROM:-0200
TZOFFSETTO:-0300
TZNAME:-03
DTSTART:20190217T020000
END:STANDARD
END:VTIMEZONE
BEGIN:VEVENT
DTSTART;TZID=America/Sao_Paulo:20190811T120000
DTEND;TZID=America/Sao_Paulo:20190811T160000
DTSTAMP:20260419T213308
CREATED:20190808T214037Z
LAST-MODIFIED:20190808T214037Z
UID:12254-1565524800-1565539200@intersantos.com.br
SUMMARY:Dia dos Pais
DESCRIPTION:El Club Restaurante e Pizzaria organiza almoço especial de Dia dos Pais
URL:https://intersantos.com.br/calendario/dia-dos-pais/
CATEGORIES:Almoço,Clube
ATTACH;FMTTYPE=image/jpeg:https://intersantos.com.br/wp-content/uploads/2019/08/WhatsApp-Image-2019-08-07-at-01.17.22.jpeg
END:VEVENT
END:VCALENDAR