BEGIN:VCALENDAR
VERSION:2.0
PRODID:-//Clube Internacional de Regatas - ECPv6.15.20//NONSGML v1.0//EN
CALSCALE:GREGORIAN
METHOD:PUBLISH
X-ORIGINAL-URL:https://intersantos.com.br
X-WR-CALDESC:Eventos para Clube Internacional de Regatas
REFRESH-INTERVAL;VALUE=DURATION:PT1H
X-Robots-Tag:noindex
X-PUBLISHED-TTL:PT1H
BEGIN:VTIMEZONE
TZID:America/Sao_Paulo
BEGIN:STANDARD
TZOFFSETFROM:-0200
TZOFFSETTO:-0300
TZNAME:-03
DTSTART:20180218T020000
END:STANDARD
BEGIN:DAYLIGHT
TZOFFSETFROM:-0300
TZOFFSETTO:-0200
TZNAME:-02
DTSTART:20181104T030000
END:DAYLIGHT
BEGIN:STANDARD
TZOFFSETFROM:-0200
TZOFFSETTO:-0300
TZNAME:-03
DTSTART:20190217T020000
END:STANDARD
END:VTIMEZONE
BEGIN:VEVENT
DTSTART;TZID=America/Sao_Paulo:20191012T130000
DTEND;TZID=America/Sao_Paulo:20191012T170000
DTSTAMP:20260419T181035
CREATED:20190930T155011Z
LAST-MODIFIED:20191003T021741Z
UID:12644-1570885200-1570899600@intersantos.com.br
SUMMARY:Dia das Crianças
DESCRIPTION:CIR realiza programação especial para o Dia das Crianças 2019 \n \n 
URL:https://intersantos.com.br/calendario/dia-das-criancas/
CATEGORIES:Clube
ATTACH;FMTTYPE=image/jpeg:https://intersantos.com.br/wp-content/uploads/2019/09/WhatsApp-Image-2019-10-02-at-21.25.53.jpeg
END:VEVENT
END:VCALENDAR