BEGIN:VCALENDAR
VERSION:2.0
PRODID:-//Clube Internacional de Regatas - ECPv6.15.20//NONSGML v1.0//EN
CALSCALE:GREGORIAN
METHOD:PUBLISH
X-WR-CALNAME:Clube Internacional de Regatas
X-ORIGINAL-URL:https://intersantos.com.br
X-WR-CALDESC:Eventos para Clube Internacional de Regatas
REFRESH-INTERVAL;VALUE=DURATION:PT1H
X-Robots-Tag:noindex
X-PUBLISHED-TTL:PT1H
BEGIN:VTIMEZONE
TZID:America/Sao_Paulo
BEGIN:STANDARD
TZOFFSETFROM:-0200
TZOFFSETTO:-0300
TZNAME:-03
DTSTART:20180218T020000
END:STANDARD
BEGIN:DAYLIGHT
TZOFFSETFROM:-0300
TZOFFSETTO:-0200
TZNAME:-02
DTSTART:20181104T030000
END:DAYLIGHT
BEGIN:STANDARD
TZOFFSETFROM:-0200
TZOFFSETTO:-0300
TZNAME:-03
DTSTART:20190217T020000
END:STANDARD
END:VTIMEZONE
BEGIN:VEVENT
DTSTART;TZID=America/Sao_Paulo:20191026T110000
DTEND;TZID=America/Sao_Paulo:20191026T180000
DTSTAMP:20260419T180926
CREATED:20191021T213225Z
LAST-MODIFIED:20191021T213225Z
UID:12859-1572087600-1572112800@intersantos.com.br
SUMMARY:Programação especial- Outubro Rosa
DESCRIPTION:Clube Internacional participa da Campanha Outubro Rosa
URL:https://intersantos.com.br/calendario/programacao-especial-outubro-rosa/
CATEGORIES:Clube
ATTACH;FMTTYPE=image/jpeg:https://intersantos.com.br/wp-content/uploads/2019/10/WhatsApp-Image-2019-10-19-at-02.15.03.jpeg
END:VEVENT
END:VCALENDAR