BEGIN:VCALENDAR
VERSION:2.0
PRODID:-//Clube Internacional de Regatas - ECPv6.15.20//NONSGML v1.0//EN
CALSCALE:GREGORIAN
METHOD:PUBLISH
X-WR-CALNAME:Clube Internacional de Regatas
X-ORIGINAL-URL:https://intersantos.com.br
X-WR-CALDESC:Eventos para Clube Internacional de Regatas
REFRESH-INTERVAL;VALUE=DURATION:PT1H
X-Robots-Tag:noindex
X-PUBLISHED-TTL:PT1H
BEGIN:VTIMEZONE
TZID:America/Sao_Paulo
BEGIN:STANDARD
TZOFFSETFROM:-0200
TZOFFSETTO:-0300
TZNAME:-03
DTSTART:20190217T020000
END:STANDARD
END:VTIMEZONE
BEGIN:VEVENT
DTSTART;TZID=America/Sao_Paulo:20200221T210000
DTEND;TZID=America/Sao_Paulo:20200221T233000
DTSTAMP:20260419T113932
CREATED:20200127T022757Z
LAST-MODIFIED:20200203T193030Z
UID:13522-1582318800-1582327800@intersantos.com.br
SUMMARY:Senadinho de Carnaval com Sambalanço
DESCRIPTION:
URL:https://intersantos.com.br/calendario/senadinho-de-carnaval-com-sambalanco/
CATEGORIES:Clube,Samba & Pagode
ATTACH;FMTTYPE=image/jpeg:https://intersantos.com.br/wp-content/uploads/2020/01/WhatsApp-Image-2020-01-30-at-18.29.45-3.jpeg
END:VEVENT
END:VCALENDAR