BEGIN:VCALENDAR
VERSION:2.0
PRODID:-//Clube Internacional de Regatas - ECPv6.15.20//NONSGML v1.0//EN
CALSCALE:GREGORIAN
METHOD:PUBLISH
X-WR-CALNAME:Clube Internacional de Regatas
X-ORIGINAL-URL:https://intersantos.com.br
X-WR-CALDESC:Eventos para Clube Internacional de Regatas
REFRESH-INTERVAL;VALUE=DURATION:PT1H
X-Robots-Tag:noindex
X-PUBLISHED-TTL:PT1H
BEGIN:VTIMEZONE
TZID:America/Sao_Paulo
BEGIN:STANDARD
TZOFFSETFROM:-0300
TZOFFSETTO:-0300
TZNAME:-03
DTSTART:20240101T000000
END:STANDARD
END:VTIMEZONE
BEGIN:VEVENT
DTSTART;VALUE=DATE:20250126
DTEND;VALUE=DATE:20250127
DTSTAMP:20260422T055415
CREATED:20250124T154514Z
LAST-MODIFIED:20250124T154514Z
UID:34986-1737849600-1737935999@intersantos.com.br
SUMMARY:Programação Esportiva e Social
DESCRIPTION:HORÁRIO DE FUNCIONAMENTO\n07h às 20h: Sede Social\n08h às 20h: Lanchonete Banzai\n12h às 20h: Restaurante\n08h às 16h: Secretaria\n09h às 15h: Balneários/SPA\n08h às 19h: Estacionamento\nFechada: Musculação\n09h às 18h: Barraca de Praia \nNÁUTICA\n08h às 19h: Funcionamento\n08h30 às 12h e das 13h às 17h: Descida de embarcações (rampa)\n09h30 às 18h30: Catraia\n09h às 19h: Restaurante \nPISCINA SOCIAL\n09h às 21h \nPISCINA SEMIOLÍMPICA\n08h às 16h: LIBERADO para recreação dos associados \nGINÁSIO DE ESPORTES (Principal)\n08h às 20h: LIBERADO para recreação dos associados \nGINÁSIO POLIESPORTIVO\n09h às 20h: LIBERADO para recreação dos associados \nMINI-GINÁSIO\n08h às 20h: LIBERADO para recreação dos associados \nTÊNIS DE CAMPO\n08h às 20h: LIBERADO para recreação esportiva dos associados \nCAMPO DE FUTEBOL\n08h às 20h: LIBERADO para recreação dos associados
URL:https://intersantos.com.br/calendario/programacao-esportiva-e-social-272/
CATEGORIES:Programação esportiva
ATTACH;FMTTYPE=image/jpeg:https://intersantos.com.br/wp-content/uploads/2019/02/no-foto-quadrado.jpg
END:VEVENT
BEGIN:VEVENT
DTSTART;TZID=America/Sao_Paulo:20250126T080000
DTEND;TZID=America/Sao_Paulo:20250126T170000
DTSTAMP:20260422T055415
CREATED:20241218T211950Z
LAST-MODIFIED:20241218T211950Z
UID:34790-1737878400-1737910800@intersantos.com.br
SUMMARY:Domingão Vermelhinho Rock Case
DESCRIPTION:
URL:https://intersantos.com.br/calendario/domingao-vermelhinho-rock-case/
CATEGORIES:Almoço,Música
ATTACH;FMTTYPE=image/jpeg:https://intersantos.com.br/wp-content/uploads/2019/02/no-foto-quadrado.jpg
END:VEVENT
BEGIN:VEVENT
DTSTART;TZID=America/Sao_Paulo:20250131T200000
DTEND;TZID=America/Sao_Paulo:20250131T230000
DTSTAMP:20260422T055415
CREATED:20241218T212315Z
LAST-MODIFIED:20241218T212315Z
UID:34798-1738353600-1738364400@intersantos.com.br
SUMMARY:Senadinho com Koala Joe
DESCRIPTION:
URL:https://intersantos.com.br/calendario/senadinho-com-koala-joe-4/
CATEGORIES:Senadinho
ATTACH;FMTTYPE=image/jpeg:https://intersantos.com.br/wp-content/uploads/2019/02/no-foto-quadrado.jpg
END:VEVENT
BEGIN:VEVENT
DTSTART;VALUE=DATE:20250201
DTEND;VALUE=DATE:20250202
DTSTAMP:20260422T055415
CREATED:20250131T195251Z
LAST-MODIFIED:20250131T195251Z
UID:35167-1738368000-1738454399@intersantos.com.br
SUMMARY:Programação Esportiva e Social
DESCRIPTION:HORÁRIO DE FUNCIONAMENTO\n07h às 23h: Sede Social\n08h às 22h: Lanchonete Banzai\n12h às 22h: Restaurante\n08h às 20h: Secretaria\n09h às 20h: Balneários/SPA\n08h às 22h: Estacionamento\n08h às 13h: Musculação\n09h às 18h: Barraca de Praia \nNÁUTICA\n08h às 19h: Funcionamento\n08h30 às 12h e das 13h às 17h: Descida de embarcações (rampa)\n09h30 às 18h30: Catraia\n09h às 19h: Restaurante \nPISCINA SOCIAL\n09h às 21h \nPISCINA SEMIOLÍMPICA\n07h às 10h: Treino Equipe (NATAÇÃO) Raias 1 a 5\n08h às 16h: LIBERADO para recreação dos associados \nGINÁSIO DE ESPORTES (Principal)\n08h às 22h: LIBERADO para recreação dos associados \nGINÁSIO POLIESPORTIVO\n08h às 10h: Amistoso Sub13 (BASQUETE)\n10h às 13h: Recreação Associados (BASQUETE)\n13h às 22h: LIBERADO para recreação dos associados \nMINI-GINÁSIO\n09h às 22h: LIBERADO para recreação dos associados \nTÊNIS DE CAMPO\n08h às 19h: LIBERADO para recreação esportiva dos associados \nCAMPO DE FUTEBOL\n08h às 15h: LIBERADO para recreação dos associados\n15h às 18h: Recreação Futebol Master\n18h às 22h: LIBERADO para recreação dos associados
URL:https://intersantos.com.br/calendario/programacao-esportiva-e-social-273/
CATEGORIES:Programação esportiva
ATTACH;FMTTYPE=image/jpeg:https://intersantos.com.br/wp-content/uploads/2019/02/no-foto-quadrado.jpg
END:VEVENT
BEGIN:VEVENT
DTSTART;VALUE=DATE:20250202
DTEND;VALUE=DATE:20250203
DTSTAMP:20260422T055415
CREATED:20250131T200607Z
LAST-MODIFIED:20250131T200607Z
UID:35169-1738454400-1738540799@intersantos.com.br
SUMMARY:PROGRAMAÇÃO ESPORTIVA E SOCIAL
DESCRIPTION:HORÁRIO DE FUNCIONAMENTO\n07h às 20h: Sede Social\n08h às 20h: Lanchonete Banzai\n12h às 20h: Restaurante\n08h às 16h: Secretaria\n09h às 15h: Balneários/SPA\n08h às 19h: Estacionamento\nFechada: Musculação\n09h às 18h: Barraca de Praia \nNÁUTICA\n08h às 19h: Funcionamento\n08h30 às 12h e das 13h às 17h: Descida de embarcações (rampa)\n09h30 às 18h30: Catraia\n09h às 19h: Restaurante \nPISCINA SOCIAL\n09h às 21h \nPISCINA SEMIOLÍMPICA\n08h às 16h: LIBERADO para recreação dos associados \nGINÁSIO DE ESPORTES (Principal)\n08h às 20h: LIBERADO para recreação dos associados \nGINÁSIO POLIESPORTIVO\n09h às 20h: LIBERADO para recreação dos associados \nMINI-GINÁSIO\n08h às 20h: LIBERADO para recreação dos associados \nTÊNIS DE CAMPO\n08h às 20h: LIBERADO para recreação esportiva dos associados \nCAMPO DE FUTEBOL\n08h às 20h: LIBERADO para recreação dos associados
URL:https://intersantos.com.br/calendario/programacao-esportiva-e-social-274/
CATEGORIES:Programação esportiva
ATTACH;FMTTYPE=image/jpeg:https://intersantos.com.br/wp-content/uploads/2019/02/no-foto-quadrado.jpg
END:VEVENT
BEGIN:VEVENT
DTSTART;TZID=America/Sao_Paulo:20250202T130000
DTEND;TZID=America/Sao_Paulo:20250202T170000
DTSTAMP:20260422T055415
CREATED:20250128T174349Z
LAST-MODIFIED:20250128T174349Z
UID:35128-1738501200-1738515600@intersantos.com.br
SUMMARY:Domingão Vermelhinho com Harmomusical Violão e Voz
DESCRIPTION:
URL:https://intersantos.com.br/calendario/domingao-vermelhinho-com-harmomusical-violao-e-voz/
CATEGORIES:Almoço,Música
ATTACH;FMTTYPE=image/jpeg:https://intersantos.com.br/wp-content/uploads/2019/02/no-foto-quadrado.jpg
END:VEVENT
BEGIN:VEVENT
DTSTART;TZID=America/Sao_Paulo:20250207T200000
DTEND;TZID=America/Sao_Paulo:20250207T230000
DTSTAMP:20260422T055415
CREATED:20250128T174840Z
LAST-MODIFIED:20250128T174840Z
UID:35136-1738958400-1738969200@intersantos.com.br
SUMMARY:Senadinho com LOVE IN A VOID
DESCRIPTION:
URL:https://intersantos.com.br/calendario/senadinho-com-love-in-a-void/
CATEGORIES:Senadinho
ATTACH;FMTTYPE=image/jpeg:https://intersantos.com.br/wp-content/uploads/2019/02/no-foto-quadrado.jpg
END:VEVENT
BEGIN:VEVENT
DTSTART;VALUE=DATE:20250208
DTEND;VALUE=DATE:20250209
DTSTAMP:20260422T055415
CREATED:20250207T181229Z
LAST-MODIFIED:20250207T181229Z
UID:35190-1738972800-1739059199@intersantos.com.br
SUMMARY:Programação Esportiva e Social
DESCRIPTION:HORÁRIO DE FUNCIONAMENTO\n07h às 23h: Sede Social\n08h às 22h: Lanchonete Banzai\n12h às 22h: Restaurante\n08h às 20h: Secretaria\n09h às 20h: Balneários/SPA\n08h às 22h: Estacionamento\n08h às 13h: Musculação\n09h às 18h: Barraca de Praia \nNÁUTICA\n08h às 19h: Funcionamento\n08h30 às 12h e das 13h às 17h: Descida de embarcações (rampa)\n09h30 às 18h30: Catraia\n09h às 19h: Restaurante \nPISCINA SOCIAL\n09h às 21h \nPISCINA SEMIOLÍMPICA\n07h às 10h: Treino Equipe (NATAÇÃO) Raias 1 a 5\n08h às 16h: LIBERADO para recreação dos associados \nGINÁSIO DE ESPORTES (Principal)\n08h às 22h: LIBERADO para recreação dos associados \nGINÁSIO POLIESPORTIVO\n08h às 10h: LIBERADO para recreação dos associados\n10h às 13h: Recreação Associados (BASQUETE)\n13h às 22h: LIBERADO para recreação dos associados \nMINI-GINÁSIO\n09h às 22h: LIBERADO para recreação dos associados \nTÊNIS DE CAMPO\n08h às 19h: LIBERADO para recreação esportiva dos associados \nCAMPO DE FUTEBOL\n08h às 15h: LIBERADO para recreação dos associados\n15h às 18h: Recreação Futebol Master\n18h às 22h: LIBERADO para recreação dos associados
URL:https://intersantos.com.br/calendario/programacao-esportiva-e-social-275/
CATEGORIES:Programação esportiva
ATTACH;FMTTYPE=image/jpeg:https://intersantos.com.br/wp-content/uploads/2019/02/no-foto-quadrado.jpg
END:VEVENT
BEGIN:VEVENT
DTSTART;VALUE=DATE:20250209
DTEND;VALUE=DATE:20250210
DTSTAMP:20260422T055415
CREATED:20250207T182138Z
LAST-MODIFIED:20250207T182138Z
UID:35192-1739059200-1739145599@intersantos.com.br
SUMMARY:Programação Esportiva e Social
DESCRIPTION:HORÁRIO DE FUNCIONAMENTO\n07h às 20h: Sede Social\n08h às 20h: Lanchonete Banzai\n12h às 20h: Restaurante\n08h às 16h: Secretaria\n09h às 15h: Balneários/SPA\n08h às 19h: Estacionamento\nFechada: Musculação\n09h às 18h: Barraca de Praia \nNÁUTICA\n08h às 19h: Funcionamento\n08h30 às 12h e das 13h às 17h: Descida de embarcações (rampa)\n09h30 às 18h30: Catraia\n09h às 19h: Restaurante \nPISCINA SOCIAL\n09h às 21h \nPISCINA SEMIOLÍMPICA\n08h às 16h: LIBERADO para recreação dos associados \nGINÁSIO DE ESPORTES (Principal)\n08h às 20h: LIBERADO para recreação dos associados \nGINÁSIO POLIESPORTIVO\n09h às 20h: LIBERADO para recreação dos associados \nMINI-GINÁSIO\n08h às 20h: LIBERADO para recreação dos associados \nTÊNIS DE CAMPO\n08h às 20h: LIBERADO para recreação esportiva dos associados \nCAMPO DE FUTEBOL\n08h às 20h: LIBERADO para recreação dos associados
URL:https://intersantos.com.br/calendario/programacao-esportiva-e-social-276/
CATEGORIES:Programação esportiva
ATTACH;FMTTYPE=image/jpeg:https://intersantos.com.br/wp-content/uploads/2019/02/no-foto-quadrado.jpg
END:VEVENT
BEGIN:VEVENT
DTSTART;TZID=America/Sao_Paulo:20250209T130000
DTEND;TZID=America/Sao_Paulo:20250209T170000
DTSTAMP:20260422T055415
CREATED:20250128T174458Z
LAST-MODIFIED:20250128T174458Z
UID:35130-1739106000-1739120400@intersantos.com.br
SUMMARY:Domingão Vermelhinho com Thalita Ferrari
DESCRIPTION:
URL:https://intersantos.com.br/calendario/domingao-vermelhinho-com-thalita-ferrari-2/
CATEGORIES:Almoço,Música
ATTACH;FMTTYPE=image/jpeg:https://intersantos.com.br/wp-content/uploads/2019/02/no-foto-quadrado.jpg
END:VEVENT
BEGIN:VEVENT
DTSTART;TZID=America/Sao_Paulo:20250214T200000
DTEND;TZID=America/Sao_Paulo:20250214T230000
DTSTAMP:20260422T055415
CREATED:20250128T174931Z
LAST-MODIFIED:20250128T174931Z
UID:35138-1739563200-1739574000@intersantos.com.br
SUMMARY:Senadinho com Daniel Mac Adden Quarteto
DESCRIPTION:
URL:https://intersantos.com.br/calendario/senadinho-com-daniel-mac-adden-quarteto/
CATEGORIES:Senadinho
ATTACH;FMTTYPE=image/jpeg:https://intersantos.com.br/wp-content/uploads/2019/02/no-foto-quadrado.jpg
END:VEVENT
BEGIN:VEVENT
DTSTART;VALUE=DATE:20250215
DTEND;VALUE=DATE:20250216
DTSTAMP:20260422T055415
CREATED:20250214T144134Z
LAST-MODIFIED:20250214T144134Z
UID:35207-1739577600-1739663999@intersantos.com.br
SUMMARY:Programação Esportiva e Social
DESCRIPTION:HORÁRIO DE FUNCIONAMENTO\n07h às 23h: Sede Social\n08h às 22h: Lanchonete Banzai\n12h às 22h: Restaurante\n08h às 20h: Secretaria\n09h às 20h: Balneários/SPA\n08h às 22h: Estacionamento\n08h às 13h: Musculação\n09h às 18h: Barraca de Praia \nNÁUTICA\n08h às 19h: Funcionamento\n08h30 às 12h e das 13h às 17h: Descida de embarcações (rampa)\n09h30 às 18h30: Catraia\n09h às 19h: Restaurante \nPISCINA SOCIAL\n09h às 21h \nPISCINA SEMIOLÍMPICA\n07h às 10h: Treino Equipe (NATAÇÃO) Raias 1 a 5\n08h às 16h: LIBERADO para recreação dos associados \nGINÁSIO DE ESPORTES (Principal)\n08h às 22h: LIBERADO para recreação dos associados \nGINÁSIO POLIESPORTIVO\n08h às 10h: LIBERADO para recreação dos associados\n10h às 13h: Recreação dos associados (BASQUETE Master)\n13h às 22h: LIBERADO para recreação dos associados \nMINI-GINÁSIO\n09h às 22h: LIBERADO para recreação dos associados \nTÊNIS DE CAMPO\n08h às 19h: LIBERADO para recreação esportiva dos associados \nCAMPO DE FUTEBOL\n08h às 15h: LIBERADO para recreação dos associados\n15h às 18h: Recreação Futebol Master\n18h às 22h: LIBERADO para recreação dos associados
URL:https://intersantos.com.br/calendario/programacao-esportiva-e-social-277/
CATEGORIES:Programação esportiva
ATTACH;FMTTYPE=image/jpeg:https://intersantos.com.br/wp-content/uploads/2019/02/no-foto-quadrado.jpg
END:VEVENT
BEGIN:VEVENT
DTSTART;VALUE=DATE:20250216
DTEND;VALUE=DATE:20250217
DTSTAMP:20260422T055415
CREATED:20250214T144825Z
LAST-MODIFIED:20250214T144825Z
UID:35209-1739664000-1739750399@intersantos.com.br
SUMMARY:Programação Esportiva e Social
DESCRIPTION:HORÁRIO DE FUNCIONAMENTO\n07h às 20h: Sede Social\n08h às 20h: Lanchonete Banzai\n12h às 20h: Restaurante\n08h às 16h: Secretaria\n09h às 15h: Balneários/SPA\n08h às 19h: Estacionamento\nFechada: Musculação\n09h às 18h: Barraca de Praia \nNÁUTICA\n08h às 19h: Funcionamento\n08h30 às 12h e das 13h às 17h: Descida de embarcações (rampa)\n09h30 às 18h30: Catraia\n09h às 19h: Restaurante \nPISCINA SOCIAL\n09h às 21h \nPISCINA SEMIOLÍMPICA\n08h às 16h: LIBERADO para recreação dos associados \nGINÁSIO DE ESPORTES (Principal)\n08h às 20h: LIBERADO para recreação dos associados \nGINÁSIO POLIESPORTIVO\n09h às 20h: LIBERADO para recreação dos associados \nMINI-GINÁSIO\n08h às 20h: LIBERADO para recreação dos associados \nTÊNIS DE CAMPO\n08h às 20h: LIBERADO para recreação esportiva dos associados \nCAMPO DE FUTEBOL\n08h às 20h: LIBERADO para recreação dos associados
URL:https://intersantos.com.br/calendario/programacao-esportiva-e-social-278/
CATEGORIES:Programação esportiva
ATTACH;FMTTYPE=image/jpeg:https://intersantos.com.br/wp-content/uploads/2019/02/no-foto-quadrado.jpg
END:VEVENT
BEGIN:VEVENT
DTSTART;TZID=America/Sao_Paulo:20250216T130000
DTEND;TZID=America/Sao_Paulo:20250216T170000
DTSTAMP:20260422T055415
CREATED:20250128T174553Z
LAST-MODIFIED:20250128T174553Z
UID:35132-1739710800-1739725200@intersantos.com.br
SUMMARY:Domingão Vermelhinho com Na Duo
DESCRIPTION:
URL:https://intersantos.com.br/calendario/domingao-vermelhinho-com-na-duo-4/
CATEGORIES:Almoço,Música
ATTACH;FMTTYPE=image/jpeg:https://intersantos.com.br/wp-content/uploads/2019/02/no-foto-quadrado.jpg
END:VEVENT
BEGIN:VEVENT
DTSTART;TZID=America/Sao_Paulo:20250221T200000
DTEND;TZID=America/Sao_Paulo:20250221T230000
DTSTAMP:20260422T055415
CREATED:20250128T175021Z
LAST-MODIFIED:20250128T175021Z
UID:35140-1740168000-1740178800@intersantos.com.br
SUMMARY:Senadinho com Devanejo
DESCRIPTION:
URL:https://intersantos.com.br/calendario/senadinho-com-devanejo-3/
CATEGORIES:Senadinho
ATTACH;FMTTYPE=image/jpeg:https://intersantos.com.br/wp-content/uploads/2019/02/no-foto-quadrado.jpg
END:VEVENT
BEGIN:VEVENT
DTSTART;VALUE=DATE:20250222
DTEND;VALUE=DATE:20250223
DTSTAMP:20260422T055415
CREATED:20250221T135741Z
LAST-MODIFIED:20250221T135741Z
UID:35245-1740182400-1740268799@intersantos.com.br
SUMMARY:Programação Esportiva e Social
DESCRIPTION:HORÁRIO DE FUNCIONAMENTO\n07h às 23h: Sede Social\n08h às 22h: Lanchonete Banzai\n12h às 22h: Restaurante\n08h às 20h: Secretaria\n09h às 20h: Balneários/SPA\n08h às 22h: Estacionamento\n08h às 13h: Musculação\n09h às 18h: Barraca de Praia \nNÁUTICA\n08h às 20h: Funcionamento\n08h30 às 12h e das 13h às 18h: Descida de embarcações (rampa)\n09h30 às 19h30: Catraia\n09h às 19h: Restaurante \nPISCINA SOCIAL\n09h às 21h \nPISCINA SEMIOLÍMPICA\n07h às 10h: Treino Equipe (NATAÇÃO) Raias 1 a 5\n08h às 16h: LIBERADO para recreação dos associados \nGINÁSIO DE ESPORTES (Principal)\n08h às 22h: LIBERADO para recreação dos associados \nGINÁSIO POLIESPORTIVO\n08h às 10h: LIBERADO para recreação dos associados\n10h às 13h: Recreação Associados (BASQUETE)\n13h às 22h: LIBERADO para recreação dos associados \nMINI-GINÁSIO\n08h às 15h: LIBERADO para recreação dos associados\n15h às 17h: Recreação Associados Master (FUTEBOL)\n17h às 22h: LIBERADO para recreação dos associados \nTÊNIS DE CAMPO\n08h às 19h: LIBERADO para recreação esportiva dos associados \nCAMPO DE FUTEBOL\nFechado: Manutenção
URL:https://intersantos.com.br/calendario/programacao-esportiva-e-social-279/
CATEGORIES:Programação esportiva
ATTACH;FMTTYPE=image/jpeg:https://intersantos.com.br/wp-content/uploads/2019/02/no-foto-quadrado.jpg
END:VEVENT
BEGIN:VEVENT
DTSTART;VALUE=DATE:20250223
DTEND;VALUE=DATE:20250224
DTSTAMP:20260422T055415
CREATED:20250221T140847Z
LAST-MODIFIED:20250221T140847Z
UID:35247-1740268800-1740355199@intersantos.com.br
SUMMARY:Programação Esportiva e Social
DESCRIPTION:HORÁRIO DE FUNCIONAMENTO\n07h às 20h: Sede Social\n08h às 20h: Lanchonete Banzai\n12h às 20h: Restaurante\n08h às 16h: Secretaria\n09h às 15h: Balneários/SPA\n08h às 19h: Estacionamento\nFechada: Musculação\n09h às 18h: Barraca de Praia \nNÁUTICA\n08h às 19h: Funcionamento\n08h30 às 12h e das 13h às 17h: Descida de embarcações (rampa)\n09h30 às 18h30: Catraia\n09h às 19h: Restaurante \nPISCINA SOCIAL\n09h às 21h \nPISCINA SEMIOLÍMPICA\n08h às 16h: LIBERADO para recreação dos associados \nGINÁSIO DE ESPORTES (Principal)\n08h às 20h: LIBERADO para recreação dos associados \nGINÁSIO POLIESPORTIVO\n09h às 20h: LIBERADO para recreação dos associados \nMINI-GINÁSIO\n08h às 20h: LIBERADO para recreação dos associados \nTÊNIS DE CAMPO\n08h às 20h: LIBERADO para recreação esportiva dos associados \nCAMPO DE FUTEBOL\n08h às 20h: LIBERADO para recreação dos associados \nCAMPO DE FUTEBOL\nFechado: Manutenção
URL:https://intersantos.com.br/calendario/programacao-esportiva-e-social-280/
CATEGORIES:Programação esportiva
ATTACH;FMTTYPE=image/jpeg:https://intersantos.com.br/wp-content/uploads/2019/02/no-foto-quadrado.jpg
END:VEVENT
BEGIN:VEVENT
DTSTART;TZID=America/Sao_Paulo:20250223T130000
DTEND;TZID=America/Sao_Paulo:20250223T170000
DTSTAMP:20260422T055415
CREATED:20250128T174743Z
LAST-MODIFIED:20250128T174743Z
UID:35134-1740315600-1740330000@intersantos.com.br
SUMMARY:Domingão Vermelhinho com Matheus Vasconcelos
DESCRIPTION:
URL:https://intersantos.com.br/calendario/domingao-vermelhinho-com-matheus-vasconcelos-2/
CATEGORIES:Almoço,Música
ATTACH;FMTTYPE=image/jpeg:https://intersantos.com.br/wp-content/uploads/2019/02/no-foto-quadrado.jpg
END:VEVENT
BEGIN:VEVENT
DTSTART;TZID=America/Sao_Paulo:20250228T200000
DTEND;TZID=America/Sao_Paulo:20250228T230000
DTSTAMP:20260422T055415
CREATED:20250128T175102Z
LAST-MODIFIED:20250128T175102Z
UID:35142-1740772800-1740783600@intersantos.com.br
SUMMARY:Senadinho Pré-Carnaval com Rafa Laranja
DESCRIPTION:
URL:https://intersantos.com.br/calendario/senadinho-pre-carnaval-com-rafa-laranja-2/
CATEGORIES:Senadinho
ATTACH;FMTTYPE=image/jpeg:https://intersantos.com.br/wp-content/uploads/2019/02/no-foto-quadrado.jpg
END:VEVENT
BEGIN:VEVENT
DTSTART;TZID=America/Sao_Paulo:20250302T160000
DTEND;TZID=America/Sao_Paulo:20250302T200000
DTSTAMP:20260422T055415
CREATED:20250128T175234Z
LAST-MODIFIED:20250128T175257Z
UID:35144-1740931200-1740945600@intersantos.com.br
SUMMARY:Matinê de Carnaval com Matheus Vasconcelos e Concurso de Fantasia
DESCRIPTION:
URL:https://intersantos.com.br/calendario/matine-de-carnaval-com-matheus-vasconcelos-e-concurso-de-fantasia/
CATEGORIES:Evento Social
ATTACH;FMTTYPE=image/jpeg:https://intersantos.com.br/wp-content/uploads/2019/02/no-foto-quadrado.jpg
END:VEVENT
BEGIN:VEVENT
DTSTART;TZID=America/Sao_Paulo:20250304T160000
DTEND;TZID=America/Sao_Paulo:20250304T200000
DTSTAMP:20260422T055415
CREATED:20250128T175418Z
LAST-MODIFIED:20250128T175418Z
UID:35147-1741104000-1741118400@intersantos.com.br
SUMMARY:Matinê de Carnaval com Matheus Vasconcelos\, Bateria e Passistas
DESCRIPTION:
URL:https://intersantos.com.br/calendario/matine-de-carnaval-com-matheus-vasconcelos-bateria-e-passistas/
CATEGORIES:Evento Social,Música
ATTACH;FMTTYPE=image/jpeg:https://intersantos.com.br/wp-content/uploads/2019/02/no-foto-quadrado.jpg
END:VEVENT
BEGIN:VEVENT
DTSTART;TZID=America/Sao_Paulo:20250307T200000
DTEND;TZID=America/Sao_Paulo:20250307T230000
DTSTAMP:20260422T055415
CREATED:20250128T175527Z
LAST-MODIFIED:20250128T175527Z
UID:35149-1741377600-1741388400@intersantos.com.br
SUMMARY:Senadinho com General Tequila
DESCRIPTION:
URL:https://intersantos.com.br/calendario/senadinho-com-general-tequila-7/
CATEGORIES:Senadinho
ATTACH;FMTTYPE=image/jpeg:https://intersantos.com.br/wp-content/uploads/2019/02/no-foto-quadrado.jpg
END:VEVENT
BEGIN:VEVENT
DTSTART;TZID=America/Sao_Paulo:20250307T200000
DTEND;TZID=America/Sao_Paulo:20250307T230000
DTSTAMP:20260422T055415
CREATED:20250305T223313Z
LAST-MODIFIED:20250305T223313Z
UID:35618-1741377600-1741388400@intersantos.com.br
SUMMARY:Senadinho com General Tequila
DESCRIPTION:
URL:https://intersantos.com.br/calendario/senadinho-com-general-tequila-8/
CATEGORIES:Senadinho
ATTACH;FMTTYPE=image/jpeg:https://intersantos.com.br/wp-content/uploads/2019/02/no-foto-quadrado.jpg
END:VEVENT
BEGIN:VEVENT
DTSTART;VALUE=DATE:20250308
DTEND;VALUE=DATE:20250309
DTSTAMP:20260422T055415
CREATED:20250307T201258Z
LAST-MODIFIED:20250307T201258Z
UID:35637-1741392000-1741478399@intersantos.com.br
SUMMARY:Programação Esportiva e Social
DESCRIPTION:HORÁRIO DE FUNCIONAMENTO\n07h às 23h: Sede Social\n08h às 22h: Lanchonete Banzai\n12h às 22h: Restaurante\n08h às 20h: Secretaria\n09h às 20h: Balneários/SPA\n07h às 22h: Estacionamento\n08h às 13h: Musculação\n09h às 18h: Barraca de Praia \nNÁUTICA\n08h às 20h: Funcionamento\n08h30 às 12h e das 13h às 18h: Descida de embarcações (rampa)\n09h30 às 19h30: Catraia\n09h às 19h: Restaurante \nPISCINA SOCIAL\n09h às 21h \nPISCINA SEMIOLÍMPICA\n07h às 10h: Treino Equipe (NATAÇÃO) Raias 1 a 5\n08h às 16h: LIBERADO para recreação dos associados \nGINÁSIO DE ESPORTES (Principal)\n08h às 15h: LIBERADO para recreação dos associados\n15h às 18h: Treino Equipe Hóquei\n18h às 22h: LIBERADO para recreação dos associados \nGINÁSIO POLIESPORTIVO\n08h às 10h: Treino Equipe de Basquete\n10h às 13h: Recreação Associados (BASQUETE)\n13h às 22h: LIBERADO para recreação dos associados \nMINI-GINÁSIO\n08h às 15h: LIBERADO para recreação dos associados\n15h às 17h: Recreação Associados Master (FUTEBOL)\n17h às 22h: LIBERADO para recreação dos associados \nTÊNIS DE CAMPO\n08h às 19h: LIBERADO para recreação esportiva dos associados \nCAMPO DE FUTEBOL\nFechado: Manutenção
URL:https://intersantos.com.br/calendario/programacao-esportiva-e-social-281/
CATEGORIES:Programação esportiva
ATTACH;FMTTYPE=image/jpeg:https://intersantos.com.br/wp-content/uploads/2019/02/no-foto-quadrado.jpg
END:VEVENT
BEGIN:VEVENT
DTSTART;TZID=America/Sao_Paulo:20250309T130000
DTEND;TZID=America/Sao_Paulo:20250309T170000
DTSTAMP:20260422T055415
CREATED:20250305T224020Z
LAST-MODIFIED:20250305T224020Z
UID:35626-1741525200-1741539600@intersantos.com.br
SUMMARY:Domingão Vermelhinho com Dany romano
DESCRIPTION:
URL:https://intersantos.com.br/calendario/domingao-vermelhinho-com-dany-romano-5/
CATEGORIES:Almoço,Música
ATTACH;FMTTYPE=image/jpeg:https://intersantos.com.br/wp-content/uploads/2019/02/no-foto-quadrado.jpg
END:VEVENT
BEGIN:VEVENT
DTSTART;TZID=America/Sao_Paulo:20250314T200000
DTEND;TZID=America/Sao_Paulo:20250314T230000
DTSTAMP:20260422T055415
CREATED:20250305T223505Z
LAST-MODIFIED:20250305T223505Z
UID:35620-1741982400-1741993200@intersantos.com.br
SUMMARY:Senadinho com Danilo Chaves
DESCRIPTION:
URL:https://intersantos.com.br/calendario/senadinho-com-danilo-chaves-4/
CATEGORIES:Senadinho
ATTACH;FMTTYPE=image/jpeg:https://intersantos.com.br/wp-content/uploads/2019/02/no-foto-quadrado.jpg
END:VEVENT
BEGIN:VEVENT
DTSTART;VALUE=DATE:20250315
DTEND;VALUE=DATE:20250316
DTSTAMP:20260422T055415
CREATED:20250313T205736Z
LAST-MODIFIED:20250313T205736Z
UID:35651-1741996800-1742083199@intersantos.com.br
SUMMARY:Programação Esportiva e Social
DESCRIPTION:HORÁRIO DE FUNCIONAMENTO\n07h às 23h: Sede Social\n08h às 22h: Lanchonete Banzai\n12h às 22h: Restaurante\n08h às 20h: Secretaria\n09h às 20h: Balneários/SPA\n07h às 22h: Estacionamento\n08h às 13h: Musculação\n09h às 18h: Barraca de Praia \nNÁUTICA\n08h às 20h: Funcionamento\n08h30 às 12h e das 13h às 18h: Descida de embarcações (rampa)\n09h30 às 19h30: Catraia\n09h às 19h: Restaurante \nPISCINA SOCIAL\n09h às 21h \nPISCINA SEMIOLÍMPICA\n07h às 10h: Treino Equipe (NATAÇÃO) Raias 1 a 5\n08h às 16h: LIBERADO para recreação dos associados \nGINÁSIO DE ESPORTES (Principal)\n07h às 10h: Treino Equipe (PATINAÇÃO)\n10h às 14h: Recreação Associados Master (BASQUETE)\n15h às 18h: Treino Equipe Hóquei\n18h às 22h: LIBERADO para recreação dos associados \nGINÁSIO POLIESPORTIVO\n08h às 15h: Campeonato Grande São Paulo (BASQUETE)\n15h às 22h: LIBERADO para recreação dos associados \nMINI-GINÁSIO\n08h às 15h: LIBERADO para recreação dos associados\n15h às 17h: Recreação Associados Master (FUTEBOL)\n17h às 22h: LIBERADO para recreação dos associados \nTÊNIS DE CAMPO\n08h às 19h: LIBERADO para recreação esportiva dos associados \nCAMPO DE FUTEBOL\nFechado: Manutenção
URL:https://intersantos.com.br/calendario/programacao-esportiva-e-social-283/
CATEGORIES:Programação esportiva
ATTACH;FMTTYPE=image/jpeg:https://intersantos.com.br/wp-content/uploads/2019/02/no-foto-quadrado.jpg
END:VEVENT
BEGIN:VEVENT
DTSTART;VALUE=DATE:20250316
DTEND;VALUE=DATE:20250317
DTSTAMP:20260422T055415
CREATED:20250313T210555Z
LAST-MODIFIED:20250313T210555Z
UID:35653-1742083200-1742169599@intersantos.com.br
SUMMARY:Programação Esportiva e Social
DESCRIPTION:HORÁRIO DE FUNCIONAMENTO\n07h às 21h: Sede Social\n08h às 20h: Lanchonete Banzai\n12h às 20h: Restaurante\n08h às 16h: Secretaria\n09h às 15h: Balneários/SPA\n08h às 19h: Estacionamento\nFechada: Musculação\n09h às 18h: Barraca de Praia \nNÁUTICA\n08h às 19h: Funcionamento\n08h30 às 12h e das 13h às 17h: Descida de embarcações (rampa)\n09h30 às 18h30: Catraia\n09h às 19h: Restaurante \nPISCINA SOCIAL\n09h às 21h \nPISCINA SEMIOLÍMPICA\n08h às 16h: LIBERADO para recreação dos associados \nGINÁSIO DE ESPORTES (Principal)\n08h às 21h: LIBERADO para recreação dos associados \nGINÁSIO POLIESPORTIVO\n09h às 21h: LIBERADO para recreação dos associados \nMINI-GINÁSIO\n08h às 21h: LIBERADO para recreação dos associados \nTÊNIS DE CAMPO\n08h às 21h: LIBERADO para recreação esportiva dos associados \nCAMPO DE FUTEBOL\nFechado: Manutenção
URL:https://intersantos.com.br/calendario/programacao-esportiva-e-social-284/
CATEGORIES:Programação esportiva
ATTACH;FMTTYPE=image/jpeg:https://intersantos.com.br/wp-content/uploads/2019/02/no-foto-quadrado.jpg
END:VEVENT
BEGIN:VEVENT
DTSTART;TZID=America/Sao_Paulo:20250316T130000
DTEND;TZID=America/Sao_Paulo:20250316T170000
DTSTAMP:20260422T055415
CREATED:20250305T224134Z
LAST-MODIFIED:20250305T224134Z
UID:35628-1742130000-1742144400@intersantos.com.br
SUMMARY:Domingão Vermelhinho com Maricene Espindola
DESCRIPTION:
URL:https://intersantos.com.br/calendario/domingao-vermelhinho-com-maricene-espindola-3/
CATEGORIES:Almoço,Música
ATTACH;FMTTYPE=image/jpeg:https://intersantos.com.br/wp-content/uploads/2019/02/no-foto-quadrado.jpg
END:VEVENT
BEGIN:VEVENT
DTSTART;TZID=America/Sao_Paulo:20250321T200000
DTEND;TZID=America/Sao_Paulo:20250321T230000
DTSTAMP:20260422T055415
CREATED:20250305T223623Z
LAST-MODIFIED:20250305T223623Z
UID:35622-1742587200-1742598000@intersantos.com.br
SUMMARY:Senadinho com Banda Rock Box
DESCRIPTION:
URL:https://intersantos.com.br/calendario/senadinho-com-banda-rock-box/
CATEGORIES:Senadinho
ATTACH;FMTTYPE=image/jpeg:https://intersantos.com.br/wp-content/uploads/2019/02/no-foto-quadrado.jpg
END:VEVENT
END:VCALENDAR