BEGIN:VCALENDAR
VERSION:2.0
PRODID:-//Clube Internacional de Regatas - ECPv6.15.20//NONSGML v1.0//EN
CALSCALE:GREGORIAN
METHOD:PUBLISH
X-ORIGINAL-URL:https://intersantos.com.br
X-WR-CALDESC:Eventos para Clube Internacional de Regatas
REFRESH-INTERVAL;VALUE=DURATION:PT1H
X-Robots-Tag:noindex
X-PUBLISHED-TTL:PT1H
BEGIN:VTIMEZONE
TZID:America/Sao_Paulo
BEGIN:STANDARD
TZOFFSETFROM:-0300
TZOFFSETTO:-0300
TZNAME:-03
DTSTART:20240101T000000
END:STANDARD
END:VTIMEZONE
BEGIN:VEVENT
DTSTART;TZID=America/Sao_Paulo:20250516T200000
DTEND;TZID=America/Sao_Paulo:20250516T230000
DTSTAMP:20260419T200843
CREATED:20250505T211859Z
LAST-MODIFIED:20250507T151353Z
UID:36201-1747425600-1747436400@intersantos.com.br
SUMMARY:Senadinho com Space Invaders
DESCRIPTION:
URL:https://intersantos.com.br/calendario/senadinho-com-tributos-ao-duran-duran-e-a-ha/
CATEGORIES:Senadinho
ATTACH;FMTTYPE=image/jpeg:https://intersantos.com.br/wp-content/uploads/2019/02/no-foto-quadrado.jpg
END:VEVENT
BEGIN:VEVENT
DTSTART;VALUE=DATE:20250517
DTEND;VALUE=DATE:20250518
DTSTAMP:20260419T200843
CREATED:20250516T153224Z
LAST-MODIFIED:20250516T153224Z
UID:36387-1747440000-1747526399@intersantos.com.br
SUMMARY:Programação Esportiva e Social
DESCRIPTION:HORÁRIO DE FUNCIONAMENTO\n07h às 22h: Sede Social\n08h às 22h: Lanchonete Banzai\n12h às 22h: Restaurante\n08h às 20h: Secretaria\n08h às 20h: Balneários/SPA\n08h às 22h: Estacionamento\n08h às 14h: Musculação\n09h às 18h: Barraca de Praia \nNÁUTICA\n08h às 19h: Funcionamento\n08h30 às 12h e das 13h às 17h: Descida de embarcações (rampa)\n09h30 às 18h30: Catraia\n09h às 19h: Restaurante \nPISCINA SOCIAL\n10h às 18h \nPISCINA SEMIOLÍMPICA\n08h às 17h: PAB KIDs- Competição de POLO AQUÁTICO \nGINÁSIO DE ESPORTES (Principal)\n07h às 08h: Treino da Equipe de PATINAÇÃO\n08h às 14h: Campeonato Interno dos associados BASQUETE MASTER\n15h às 18h: Treino da Equipe de HÓQUEI\n18h às 22h: LIBERADO para recreação dos associados \nGINÁSIO POLIESPORTIVO\n08h às 14h: Campeonato Paulista de BASQUETE\n14h às 22h: LIBERADO para recreação dos associados \nMINI-GINÁSIO\n07h às 08h: Treino da Equipe de VÔLEI\n08h às 22h: LIBERADO para recreação dos associados \nTÊNIS DE CAMPO\n08h às 21h: LIBERADO para recreação dos associados\n14h às 20h: Torneio Interclubes (TÊNIS)- quadras 3\, 4\, 5 e 6. \nCAMPO DE FUTEBOL\n08h às 15h: LIBERADO para recreação dos associados\n15h às 18h: Recreação FUTEBOL MASTER
URL:https://intersantos.com.br/calendario/programacao-esportiva-e-social-304/
CATEGORIES:Programação esportiva
ATTACH;FMTTYPE=image/jpeg:https://intersantos.com.br/wp-content/uploads/2019/02/no-foto-quadrado.jpg
END:VEVENT
BEGIN:VEVENT
DTSTART;VALUE=DATE:20250518
DTEND;VALUE=DATE:20250519
DTSTAMP:20260419T200843
CREATED:20250516T153820Z
LAST-MODIFIED:20250516T153820Z
UID:36389-1747526400-1747612799@intersantos.com.br
SUMMARY:Programação Esportiva e Social
DESCRIPTION:HORÁRIO DE FUNCIONAMENTO\n07h às 20h: Sede Social\n08h às 20h: Lanchonete Banzai\n12h às 20h: Restaurante\n08h às 16h: Secretaria\n09h às 15h: Balneários/SPA\n08h às 19h: Estacionamento\nFechada: Musculação\n09h às 18h: Barraca de Praia \nNÁUTICA\n08h às 19h: Funcionamento\n08h30 às 12h e das 13h às 17h: Descida de embarcações (rampa)\n09h30 às 18h30: Catraia\n09h às 19h: Restaurante \nPISCINA SOCIAL\n10h às 18h \nPISCINA SEMIOLÍMPICA\n08h às 16h: LIBERADO para recreação dos associados \nGINÁSIO DE ESPORTES (Principal)\n08h às 19h: LIBERADO para recreação dos associados \nGINÁSIO POLIESPORTIVO\n08h às 12h: Campeonato Paulista de VÔLEI\n13h às 18h: Campeonato da Grande SP de BASQUETE)\n15h às 19h: LIBERADO para recreação dos associados \nMINI-GINÁSIO\n08h às 19h: LIBERADO para recreação dos associados \nTÊNIS DE CAMPO\n08h às 19h: LIBERADO para recreação dos associados \nCAMPO DE FUTEBOL\n8h às 19h: LIBERADO para recreação dos associados
URL:https://intersantos.com.br/calendario/programacao-esportiva-e-social-305/
CATEGORIES:Programação esportiva
ATTACH;FMTTYPE=image/jpeg:https://intersantos.com.br/wp-content/uploads/2019/02/no-foto-quadrado.jpg
END:VEVENT
BEGIN:VEVENT
DTSTART;TZID=America/Sao_Paulo:20250518T130000
DTEND;TZID=America/Sao_Paulo:20250518T170000
DTSTAMP:20260419T200843
CREATED:20250424T211129Z
LAST-MODIFIED:20250424T212128Z
UID:36148-1747573200-1747587600@intersantos.com.br
SUMMARY:Domingão Vermelhinho com Na Duo
DESCRIPTION:
URL:https://intersantos.com.br/calendario/domingao-vermelhinho-na-duo/
CATEGORIES:Almoço,Música
ATTACH;FMTTYPE=image/jpeg:https://intersantos.com.br/wp-content/uploads/2019/02/no-foto-quadrado.jpg
END:VEVENT
BEGIN:VEVENT
DTSTART;TZID=America/Sao_Paulo:20250523T200000
DTEND;TZID=America/Sao_Paulo:20250523T230000
DTSTAMP:20260419T200843
CREATED:20250424T211329Z
LAST-MODIFIED:20250424T211329Z
UID:36150-1748030400-1748041200@intersantos.com.br
SUMMARY:Senadinho com Nostratamos
DESCRIPTION:
URL:https://intersantos.com.br/calendario/senadinho-com-nostratamos-2/
CATEGORIES:Senadinho
ATTACH;FMTTYPE=image/jpeg:https://intersantos.com.br/wp-content/uploads/2019/02/no-foto-quadrado.jpg
END:VEVENT
BEGIN:VEVENT
DTSTART;VALUE=DATE:20250524
DTEND;VALUE=DATE:20250525
DTSTAMP:20260419T200843
CREATED:20250524T004848Z
LAST-MODIFIED:20250524T004848Z
UID:36596-1748044800-1748131199@intersantos.com.br
SUMMARY:Programação Esportiva e Social
DESCRIPTION:HORÁRIO DE FUNCIONAMENTO\n07h às 22h: Sede Social\n08h às 22h: Lanchonete Banzai\n12h às 22h: Restaurante\n08h às 20h: Secretaria\n09h às 20h: Balneários/SPA\n08h às 22h: Estacionamento\n08h às 13h: Musculação\n09h às 18h: Barraca de Praia \nNÁUTICA\n08h às 19h: Funcionamento\n08h30 às 12h e das 13h às 17h: Descida de embarcações (rampa)\n09h30 às 18h30: Catraia\n09h às 19h: Restaurante \nPISCINA SOCIAL\n10h às 18h \nPISCINA SEMIOLÍMPICA\n07h às 10h: Treino Equipe (NATAÇÃO)\n08h às 16h: LIBERADO para recreação esportiva dos associados \nGINÁSIO DE ESPORTES (Principal)\n08h às 14h: Cerimônia de Aniversário CIR 127\n14h às 22h: LIBERADO para recreação dos associados \nGINÁSIO POLIESPORTIVO\n08h às 22h: LIBERADO para recreação dos associados \nMINI-GINÁSIO\n08h às 22h: LIBERADO para recreação dos associados \nTÊNIS DE CAMPO\n08h às 21h: LIBERADO para recreação dos associados \nCAMPO DE FUTEBOL\n08h às 15h: LIBERADO para recreação dos associados\n15h às 18h: Recreação FUTEBOL MASTER
URL:https://intersantos.com.br/calendario/programacao-esportiva-e-social-306/
CATEGORIES:Programação esportiva
ATTACH;FMTTYPE=image/jpeg:https://intersantos.com.br/wp-content/uploads/2019/02/no-foto-quadrado.jpg
END:VEVENT
BEGIN:VEVENT
DTSTART;TZID=America/Sao_Paulo:20250524T130000
DTEND;TZID=America/Sao_Paulo:20250524T170000
DTSTAMP:20260419T200843
CREATED:20250424T212241Z
LAST-MODIFIED:20250424T212241Z
UID:36157-1748091600-1748106000@intersantos.com.br
SUMMARY:Aniversário do Clube- Feijoada
DESCRIPTION:
URL:https://intersantos.com.br/calendario/aniversario-do-clube-feijoada/
CATEGORIES:Almoço,Evento Social,Música
ATTACH;FMTTYPE=image/jpeg:https://intersantos.com.br/wp-content/uploads/2019/02/no-foto-quadrado.jpg
END:VEVENT
BEGIN:VEVENT
DTSTART;VALUE=DATE:20250525
DTEND;VALUE=DATE:20250526
DTSTAMP:20260419T200843
CREATED:20250524T005712Z
LAST-MODIFIED:20250524T005712Z
UID:36599-1748131200-1748217599@intersantos.com.br
SUMMARY:Programação Esportiva e Social
DESCRIPTION:HORÁRIO DE FUNCIONAMENTO\n07h às 20h: Sede Social\n08h às 20h: Lanchonete Banzai\n12h às 20h: Restaurante\n08h às 16h: Secretaria\n09h às 15h: Balneários/SPA\n08h às 19h: Estacionamento\nFechada: Musculação\n09h às 18h: Barraca de Praia \nNÁUTICA\n08h às 19h: Funcionamento\n08h30 às 12h e das 13h às 17h: Descida de embarcações (rampa)\n09h30 às 18h30: Catraia\n09h às 19h: Restaurante \nPISCINA SOCIAL\n10h às 18h \nPISCINA SEMIOLÍMPICA\n07h às 10h: Treino Equipe (NATAÇÃO) – Raias 1 a 6\n08h às 16h: LIBERADO para recreação dos associados \nGINÁSIO DE ESPORTES (Principal)\n07h às 10h: Treino Equipe (PATINAÇÃO)\n10h às 19h: LIBERADO para recreação dos associados \nGINÁSIO POLIESPORTIVO\n09h às 13h: Copa SindiClube de Futsal\n13h às 19h: LIBERADO para recreação dos associados \nMINI-GINÁSIO\n08h às 19h: LIBERADO para recreação dos associados \nTÊNIS DE CAMPO\n08h às 19h: LIBERADO para recreação dos associados \nCAMPO DE FUTEBOL\n8h às 19h: LIBERADO para recreação dos associados
URL:https://intersantos.com.br/calendario/programacao-esportiva-e-social-307/
CATEGORIES:Programação esportiva
ATTACH;FMTTYPE=image/jpeg:https://intersantos.com.br/wp-content/uploads/2019/02/no-foto-quadrado.jpg
END:VEVENT
BEGIN:VEVENT
DTSTART;TZID=America/Sao_Paulo:20250525T130000
DTEND;TZID=America/Sao_Paulo:20250525T170000
DTSTAMP:20260419T200843
CREATED:20250424T211444Z
LAST-MODIFIED:20250424T211444Z
UID:36152-1748178000-1748192400@intersantos.com.br
SUMMARY:Domingão Vermelhinho com Matheus Vasconcelos
DESCRIPTION:
URL:https://intersantos.com.br/calendario/domingao-vermelhinho-com-matheus-vasconcelos-3/
CATEGORIES:Almoço,Música
ATTACH;FMTTYPE=image/jpeg:https://intersantos.com.br/wp-content/uploads/2019/02/no-foto-quadrado.jpg
END:VEVENT
BEGIN:VEVENT
DTSTART;TZID=America/Sao_Paulo:20250530T200000
DTEND;TZID=America/Sao_Paulo:20250530T230000
DTSTAMP:20260419T200843
CREATED:20250424T211620Z
LAST-MODIFIED:20250424T211620Z
UID:36154-1748635200-1748646000@intersantos.com.br
SUMMARY:Senandinho com Uma Noite na Loved- Banda Love in a Void
DESCRIPTION:
URL:https://intersantos.com.br/calendario/senandinho-com-uma-noite-na-loved-banda-love-in-a-void/
CATEGORIES:Senadinho
ATTACH;FMTTYPE=image/jpeg:https://intersantos.com.br/wp-content/uploads/2019/02/no-foto-quadrado.jpg
END:VEVENT
BEGIN:VEVENT
DTSTART;VALUE=DATE:20250531
DTEND;VALUE=DATE:20250601
DTSTAMP:20260419T200843
CREATED:20250529T223234Z
LAST-MODIFIED:20250529T223234Z
UID:37446-1748649600-1748735999@intersantos.com.br
SUMMARY:Programação Esportiva e Social
DESCRIPTION:HORÁRIO DE FUNCIONAMENTO\n07h às 22h: Sede Social\n08h às 22h: Lanchonete Banzai\n12h às 22h: Restaurante\n08h às 20h: Secretaria\n09h às 20h: Balneários/SPA\n08h às 22h: Estacionamento\n08h às 13h: Musculação\n09h às 18h: Barraca de Praia \nNÁUTICA\n08h às 19h: Funcionamento\n08h30 às 12h e das 13h às 17h: Descida de embarcações (rampa)\n09h30 às 18h30: Catraia\n09h às 19h: Restaurante \nPISCINA SOCIAL\n10h às 18h \nPISCINA SEMIOLÍMPICA\n07h às 10h: Treino Equipe (NATAÇÃO)\n08h às 16h: LIBERADO para recreação esportiva dos associados\n16h às 18h: Treino Equipe (POLO AQUATICO) \nGINÁSIO DE ESPORTES (Principal)\n08h às 14h: Torneio Interno (BASQUETE MASTER)\n15h às 18h: Treino Equipe (HÓQUEI)\n18h às 22h: LIBERADO para recreação dos associados \nGINÁSIO POLIESPORTIVO\n08h às 14h: Campeonato Grande SP (BASQUETE)\n14h às 22h: LIBERADO para recreação dos associados \nMINI-GINÁSIO\n08h às 22h: LIBERADO para recreação dos associados \nTÊNIS DE CAMPO\n08h às 22h: LIBERADO para recreação dos associados- quadras 3 e 4\n07h às 13h: Torneio dos Amigos- quadras 1 e 2\n13h às 18h: Torneio Interclubes- quadras 01\, 02\, 06 e 07 \nCAMPO DE FUTEBOL\n08h às 15h: LIBERADO para recreação dos associados\n15h às 18h: Recreação FUTEBOL MASTER
URL:https://intersantos.com.br/calendario/programacao-esportiva-e-social-308/
CATEGORIES:Programação esportiva
ATTACH;FMTTYPE=image/jpeg:https://intersantos.com.br/wp-content/uploads/2019/02/no-foto-quadrado.jpg
END:VEVENT
BEGIN:VEVENT
DTSTART;VALUE=DATE:20250601
DTEND;VALUE=DATE:20250602
DTSTAMP:20260419T200843
CREATED:20250529T224907Z
LAST-MODIFIED:20250529T224907Z
UID:37448-1748736000-1748822399@intersantos.com.br
SUMMARY:Programação Esportiva e Social
DESCRIPTION:HORÁRIO DE FUNCIONAMENTO\n07h às 20h: Sede Social\n08h às 20h: Lanchonete Banzai\n12h às 20h: Restaurante\n08h às 16h: Secretaria\n09h às 15h: Balneários/SPA\n08h às 19h: Estacionamento\nFechada: Musculação\n09h às 18h: Barraca de Praia \nNÁUTICA\n08h às 19h: Funcionamento\n08h30 às 12h e das 13h às 17h: Descida de embarcações (rampa)\n09h30 às 18h30: Catraia\n09h às 19h: Restaurante \nPISCINA SOCIAL\n10h às 18h \nPISCINA SEMIOLÍMPICA\n08h às 16h: LIBERADO para recreação dos associados \nGINÁSIO DE ESPORTES (Principal)\n10h às 19h: LIBERADO para recreação dos associados \nGINÁSIO POLIESPORTIVO\n08h às 19h: LIBERADO para recreação dos associados \nMINI-GINÁSIO\n08h às 19h: LIBERADO para recreação dos associados \nTÊNIS DE CAMPO\n08h às 19h: LIBERADO para recreação dos associados- quadras 3\, 4\, 5 e 6\n13h às 18h: Torneio Interclubes- quadras 1 e 2 \nCAMPO DE FUTEBOL\n8h às 19h: LIBERADO para recreação dos associados
URL:https://intersantos.com.br/calendario/programacao-esportiva-e-social-309/
CATEGORIES:Programação esportiva
ATTACH;FMTTYPE=image/jpeg:https://intersantos.com.br/wp-content/uploads/2019/02/no-foto-quadrado.jpg
END:VEVENT
BEGIN:VEVENT
DTSTART;TZID=America/Sao_Paulo:20250601T130000
DTEND;TZID=America/Sao_Paulo:20250601T170000
DTSTAMP:20260419T200843
CREATED:20250528T150945Z
LAST-MODIFIED:20250528T150945Z
UID:36866-1748782800-1748797200@intersantos.com.br
SUMMARY:Domingão Vermelhinho com Thalita Ferrari
DESCRIPTION:
URL:https://intersantos.com.br/calendario/domingao-vermelhinho-com-thalita-ferrari-4/
CATEGORIES:Almoço,Música
ATTACH;FMTTYPE=image/jpeg:https://intersantos.com.br/wp-content/uploads/2019/02/no-foto-quadrado.jpg
END:VEVENT
BEGIN:VEVENT
DTSTART;TZID=America/Sao_Paulo:20250606T200000
DTEND;TZID=America/Sao_Paulo:20250606T230000
DTSTAMP:20260419T200843
CREATED:20250528T151041Z
LAST-MODIFIED:20250528T151041Z
UID:36868-1749240000-1749250800@intersantos.com.br
SUMMARY:Senadinho com Via Rock
DESCRIPTION:
URL:https://intersantos.com.br/calendario/senadinho-com-via-rock-5/
CATEGORIES:Senadinho
ATTACH;FMTTYPE=image/jpeg:https://intersantos.com.br/wp-content/uploads/2019/02/no-foto-quadrado.jpg
END:VEVENT
BEGIN:VEVENT
DTSTART;TZID=America/Sao_Paulo:20250608T130000
DTEND;TZID=America/Sao_Paulo:20250608T170000
DTSTAMP:20260419T200843
CREATED:20250528T151120Z
LAST-MODIFIED:20250528T151120Z
UID:36870-1749387600-1749402000@intersantos.com.br
SUMMARY:Domingão Vermelhinho com Kamila Castro
DESCRIPTION:
URL:https://intersantos.com.br/calendario/domingao-vermelhinho-com-kamila-castro-6/
CATEGORIES:Almoço,Música
ATTACH;FMTTYPE=image/jpeg:https://intersantos.com.br/wp-content/uploads/2019/02/no-foto-quadrado.jpg
END:VEVENT
BEGIN:VEVENT
DTSTART;TZID=America/Sao_Paulo:20250613T200000
DTEND;TZID=America/Sao_Paulo:20250613T230000
DTSTAMP:20260419T200843
CREATED:20250528T151214Z
LAST-MODIFIED:20250528T151214Z
UID:36872-1749844800-1749855600@intersantos.com.br
SUMMARY:Senadinho com Tributo ao Queen com Danilo Chaves
DESCRIPTION:
URL:https://intersantos.com.br/calendario/senadinho-com-tributo-ao-queen-com-danilo-chaves-2/
CATEGORIES:Senadinho
ATTACH;FMTTYPE=image/jpeg:https://intersantos.com.br/wp-content/uploads/2019/02/no-foto-quadrado.jpg
END:VEVENT
BEGIN:VEVENT
DTSTART;VALUE=DATE:20250614
DTEND;VALUE=DATE:20250615
DTSTAMP:20260419T200843
CREATED:20250613T211303Z
LAST-MODIFIED:20250613T211303Z
UID:37545-1749859200-1749945599@intersantos.com.br
SUMMARY:Programação Esportiva e Social
DESCRIPTION:HORÁRIO DE FUNCIONAMENTO\n07h às 22h: Sede Social\n08h às 22h: Lanchonete Banzai\n12h às 22h: Restaurante\n08h às 20h: Secretaria\n09h às 20h: Balneários/SPA\n08h às 22h: Estacionamento\n08h às 13h: Musculação\n09h às 18h: Barraca de Praia \nNÁUTICA\n08h às 19h: Funcionamento\n08h30 às 12h e das 13h às 17h: Descida de embarcações (rampa)\n09h30 às 18h30: Catraia\n09h às 19h: Restaurante \nPISCINA SOCIAL\n10h às 18h \nPISCINA SEMIOLÍMPICA\n07h às 10h: Treino Equipe (NATAÇÃO)\n08h às 16h: LIBERADO para recreação esportiva dos associados\n16h às 18h: Treino Equipe (POLO AQUATICO) \nGINÁSIO DE ESPORTES (Principal)\n07h às 18h: Torneio Jose Vidal Sion (JUDÔ)\n18h às 22h: LIBERADO para recreação dos associados \nGINÁSIO POLIESPORTIVO\n09h às 14h: Campeonato Interno (BASQUETE MASTER)\n14h às 22h: LIBERADO para recreação dos associados \nMINI-GINÁSIO\n08h às 22h: LIBERADO para recreação dos associados \nTÊNIS DE CAMPO\n08h às 14h: LIBERADO para recreação dos associados- quadras 1\, 2\, 3\, 4\, 5 e 6.\n14h às 16h: Campeonato Interclubes\n16h às 18h: LIBERADO para recreação dos associados- quadras 1\, 2\, 3\, 4\, 5 e 6. \nCAMPO DE FUTEBOL\n08h às 15h: LIBERADO para recreação dos associados\n15h às 18h: Recreação FUTEBOL MASTER
URL:https://intersantos.com.br/calendario/programacao-esportiva-e-social-310/
CATEGORIES:Programação esportiva
ATTACH;FMTTYPE=image/jpeg:https://intersantos.com.br/wp-content/uploads/2019/02/no-foto-quadrado.jpg
END:VEVENT
BEGIN:VEVENT
DTSTART;VALUE=DATE:20250615
DTEND;VALUE=DATE:20250616
DTSTAMP:20260419T200843
CREATED:20250613T212109Z
LAST-MODIFIED:20250613T212109Z
UID:37549-1749945600-1750031999@intersantos.com.br
SUMMARY:Programação Esportiva e Social
DESCRIPTION:HORÁRIO DE FUNCIONAMENTO\n07h às 20h: Sede Social\n08h às 20h: Lanchonete Banzai\n12h às 20h: Restaurante\n08h às 16h: Secretaria\n09h às 15h: Balneários/SPA\n08h às 19h: Estacionamento\nFechada: Musculação\n09h às 18h: Barraca de Praia \nNÁUTICA\n08h às 19h: Funcionamento\n08h30 às 12h e das 13h às 17h: Descida de embarcações (rampa)\n09h30 às 18h30: Catraia\n09h às 19h: Restaurante \nPISCINA SOCIAL\n10h às 18h \nPISCINA SEMIOLÍMPICA\n08h às 16h: LIBERADO para recreação dos associados \nGINÁSIO DE ESPORTES (Principal)\n07h às 16h: Festival Luiz Onmura (JUDÔ)\n16h às 19h: Desmontagem Campeonato \nGINÁSIO POLIESPORTIVO\n08h às 15h: Campeonato Grande SP (BASQUETE)\n15h às 18h: LIBERADO para recreação dos associados \nMINI-GINÁSIO\n08h às 19h: LIBERADO para recreação dos associados \nTÊNIS DE CAMPO\n08h às 19h: LIBERADO para recreação dos associados- quadras 3\, 4\, 5 e 6 \nCAMPO DE FUTEBOL\n8h às 19h: LIBERADO para recreação dos associados
URL:https://intersantos.com.br/calendario/programacao-esportiva-e-social-311/
CATEGORIES:Programação esportiva
ATTACH;FMTTYPE=image/jpeg:https://intersantos.com.br/wp-content/uploads/2019/02/no-foto-quadrado.jpg
END:VEVENT
BEGIN:VEVENT
DTSTART;TZID=America/Sao_Paulo:20250615T130000
DTEND;TZID=America/Sao_Paulo:20250615T170000
DTSTAMP:20260419T200843
CREATED:20250528T151252Z
LAST-MODIFIED:20250528T151252Z
UID:36874-1749992400-1750006800@intersantos.com.br
SUMMARY:Domingão Vermelhinho com Daniel voz e violão
DESCRIPTION:
URL:https://intersantos.com.br/calendario/domingao-vermelhinho-com-daniel-voz-e-violao/
CATEGORIES:Almoço,Música
ATTACH;FMTTYPE=image/jpeg:https://intersantos.com.br/wp-content/uploads/2019/02/no-foto-quadrado.jpg
END:VEVENT
BEGIN:VEVENT
DTSTART;TZID=America/Sao_Paulo:20250620T200000
DTEND;TZID=America/Sao_Paulo:20250620T230000
DTSTAMP:20260419T200843
CREATED:20250528T151334Z
LAST-MODIFIED:20250528T151334Z
UID:36876-1750449600-1750460400@intersantos.com.br
SUMMARY:Senadinho com Banda Expresso
DESCRIPTION:
URL:https://intersantos.com.br/calendario/senadinho-com-banda-expresso-8/
CATEGORIES:Senadinho
ATTACH;FMTTYPE=image/jpeg:https://intersantos.com.br/wp-content/uploads/2019/02/no-foto-quadrado.jpg
END:VEVENT
BEGIN:VEVENT
DTSTART;VALUE=DATE:20250621
DTEND;VALUE=DATE:20250622
DTSTAMP:20260419T200843
CREATED:20250620T165410Z
LAST-MODIFIED:20250620T165410Z
UID:37553-1750464000-1750550399@intersantos.com.br
SUMMARY:Programação Esportiva e Social
DESCRIPTION:HORÁRIO DE FUNCIONAMENTO\n07h às 22h: Sede Social\n08h às 22h: Lanchonete Banzai\n12h às 22h: Restaurante\n08h às 20h: Secretaria\n09h às 20h: Balneários/SPA\n08h às 22h: Estacionamento\n08h às 13h: Musculação\n09h às 18h: Barraca de Praia \nNÁUTICA\n08h às 19h: Funcionamento\n08h às 17h: Secretaria\n08h30 às 12h e das 13h às 17h: descida de embarcações (rampa)\n09h30 às 18h30: Catraia (saídas a cada 30 minutos)\n09h às 19h: Restaurante \nPISCINA SOCIAL\n10h às 18h \nPISCINA SEMIOLÍMPICA\n07h às 10h: Treino Equipe (NATAÇÃO)\n08h às 16h: LIBERADO para recreação esportiva dos associados\n16h às 18h: Treino Equipe (POLO AQUATICO) \nGINÁSIO DE ESPORTES (Principal)\n08h às 19h: Campeonato Paulista (Hóquei)\n19h às 22h: LIBERADO para recreação dos associados \nGINÁSIO POLIESPORTIVO\n08h às 14h: Campeonato Grande SP (BASQUETE)\n14h às 22h: LIBERADO para recreação dos associados \nMINI-GINÁSIO\n08h às 10h: LIBERADO para recreação dos associados\n11h às 14h: Recreação Esportiva BASQUETE MASTER\n14h às 22h: IBERADO para recreação dos associados \nTÊNIS DE CAMPO\n08h às 22h: LIBERADO para recreação dos associados \nCAMPO DE FUTEBOL\n08h às 15h: LIBERADO para recreação dos associados\n15h às 18h: Recreação FUTEBOL MASTER
URL:https://intersantos.com.br/calendario/programacao-esportiva-e-social-312/
CATEGORIES:Programação esportiva
ATTACH;FMTTYPE=image/jpeg:https://intersantos.com.br/wp-content/uploads/2019/02/no-foto-quadrado.jpg
END:VEVENT
BEGIN:VEVENT
DTSTART;VALUE=DATE:20250622
DTEND;VALUE=DATE:20250623
DTSTAMP:20260419T200843
CREATED:20250620T165642Z
LAST-MODIFIED:20250620T165642Z
UID:37551-1750550400-1750636799@intersantos.com.br
SUMMARY:Programação Esportiva e Social
DESCRIPTION:HORÁRIO DE FUNCIONAMENTO\n07h às 20h: Sede Social\n08h às 20h: Lanchonete Banzai\n12h às 20h: Restaurante\n08h às 16h: Secretaria\n09h às 15h: Balneários/SPA\n08h às 19h: Estacionamento\nFechada: Musculação\n09h às 18h: Barraca de Praia \nNÁUTICA\n08h às 19h: Funcionamento\n08h às 17h: Secretaria\n08h30 às 12h e das 13h às 17h: descida de embarcações (rampa)\n09h30 às 18h30: Catraia (saídas a cada 30 minutos)\n09h às 19h: Restaurante \nPISCINA SOCIAL\n10h às 18h \nPISCINA SEMIOLÍMPICA\n08h às 16h: LIBERADO para recreação dos associados \nGINÁSIO DE ESPORTES (Principal)\n07h às 10h: Treino Equipe (PATINAÇÃO)\n10h às 19h: LIBERADO para recreação dos associados \nGINÁSIO POLIESPORTIVO\n08h às 13h: Copa Sindi Clubes (FUTSAL)\n13h às 19h: LIBERADO para recreação dos associados \nMINI-GINÁSIO\n08h às 19h: LIBERADO para recreação dos associados \nTÊNIS DE CAMPO\n08h às 19h: LIBERADO para recreação dos associados \nCAMPO DE FUTEBOL\n8h às 19h: LIBERADO para recreação dos associados
URL:https://intersantos.com.br/calendario/programacao-esportiva-e-social-313/
CATEGORIES:Programação esportiva
ATTACH;FMTTYPE=image/jpeg:https://intersantos.com.br/wp-content/uploads/2019/02/no-foto-quadrado.jpg
END:VEVENT
BEGIN:VEVENT
DTSTART;TZID=America/Sao_Paulo:20250622T130000
DTEND;TZID=America/Sao_Paulo:20250622T170000
DTSTAMP:20260419T200843
CREATED:20250528T151415Z
LAST-MODIFIED:20250528T151415Z
UID:36878-1750597200-1750611600@intersantos.com.br
SUMMARY:Domingão Vermelhinho com Dany Romano
DESCRIPTION:
URL:https://intersantos.com.br/calendario/domingao-vermelhinho-com-dany-romano-7/
CATEGORIES:Almoço,Música
ATTACH;FMTTYPE=image/jpeg:https://intersantos.com.br/wp-content/uploads/2019/02/no-foto-quadrado.jpg
END:VEVENT
BEGIN:VEVENT
DTSTART;TZID=America/Sao_Paulo:20250627T200000
DTEND;TZID=America/Sao_Paulo:20250627T230000
DTSTAMP:20260419T200843
CREATED:20250528T151458Z
LAST-MODIFIED:20250528T151858Z
UID:36880-1751054400-1751065200@intersantos.com.br
SUMMARY:Festa Junina com Banda Prinde
DESCRIPTION:
URL:https://intersantos.com.br/calendario/festa-junina-com-banda-prinde/
CATEGORIES:Clube,Evento Social,Música
ATTACH;FMTTYPE=image/jpeg:https://intersantos.com.br/wp-content/uploads/2019/02/no-foto-quadrado.jpg
END:VEVENT
BEGIN:VEVENT
DTSTART;VALUE=DATE:20250628
DTEND;VALUE=DATE:20250629
DTSTAMP:20260419T200843
CREATED:20250626T230146Z
LAST-MODIFIED:20250626T230146Z
UID:37622-1751068800-1751155199@intersantos.com.br
SUMMARY:Programação Esportiva e Social
DESCRIPTION:HORÁRIO DE FUNCIONAMENTO\n07h às 23h: Sede Social\n08h às 23h: Lanchonete Banzai\n12h às 23h: Restaurante\n08h às 23h: Secretaria\n09h às 20h: Balneários/SPA\n08h às 23h: Estacionamento\n08h às 13h: Musculação\n09h às 18h: Barraca de Praia \nNÁUTICA\n08h às 19h: Funcionamento\n08h às 17h: Secretaria\n08h30 às 12h e das 13h às 17h: descida de embarcações (rampa)\n09h30 às 18h30: Catraia (saídas a cada 30 minutos)\n09h às 19h: Restaurante \nPISCINA SOCIAL\n10h às 18h \nPISCINA SEMIOLÍMPICA\n07h às 10h: Treino Equipe (NATAÇÃO)\n08h às 16h: LIBERADO para recreação esportiva dos associados \nGINÁSIO DE ESPORTES (Principal)\n08h às 15h: LIBERADO para recreação dos associados\n15h às 18h: Treino Equipe (HÓQUEI)\n18h às 23h: LIBERADO para recreação dos associados \nGINÁSIO POLIESPORTIVO\n08h às 10h: LIBERADO para recreação dos associados\n10h às 14h: Recreação Associados (BASQUETE MASTER)\n14h às 22h: LIBERADO para recreação dos associados \nMINI-GINÁSIO\n08h às 22h: LIBERADO para recreação dos associados \nTÊNIS DE CAMPO\n08h às 22h: LIBERADO para recreação dos associados \nCAMPO DE FUTEBOL\n08h às 15h: LIBERADO para recreação dos associados\n15h às 18h: Recreação FUTEBOL MASTER
URL:https://intersantos.com.br/calendario/programacao-esportiva-e-social-314/
CATEGORIES:Programação esportiva
ATTACH;FMTTYPE=image/jpeg:https://intersantos.com.br/wp-content/uploads/2019/02/no-foto-quadrado.jpg
END:VEVENT
BEGIN:VEVENT
DTSTART;TZID=America/Sao_Paulo:20250628T190000
DTEND;TZID=America/Sao_Paulo:20250628T230000
DTSTAMP:20260419T200843
CREATED:20250528T151544Z
LAST-MODIFIED:20250528T151544Z
UID:36882-1751137200-1751151600@intersantos.com.br
SUMMARY:Festa Junina com Banda Thalita Ferrari
DESCRIPTION:
URL:https://intersantos.com.br/calendario/festa-junina-com-banda-thalita-ferrari/
CATEGORIES:Clube,Evento Social,Música
ATTACH;FMTTYPE=image/jpeg:https://intersantos.com.br/wp-content/uploads/2019/02/no-foto-quadrado.jpg
END:VEVENT
BEGIN:VEVENT
DTSTART;VALUE=DATE:20250629
DTEND;VALUE=DATE:20250630
DTSTAMP:20260419T200843
CREATED:20250626T230800Z
LAST-MODIFIED:20250626T230800Z
UID:37624-1751155200-1751241599@intersantos.com.br
SUMMARY:Programação Esportiva e Social
DESCRIPTION:HORÁRIO DE FUNCIONAMENTO\n07h às 20h: Sede Social\n08h às 20h: Lanchonete Banzai\n12h às 20h: Restaurante\n08h às 16h: Secretaria\n09h às 15h: Balneários/SPA\n08h às 19h: Estacionamento\nFechada: Musculação\n09h às 18h: Barraca de Praia \nNÁUTICA\n08h às 19h: Funcionamento\n08h às 17h: Secretaria\n08h30 às 12h e das 13h às 17h: descida de embarcações (rampa)\n09h30 às 18h30: Catraia (saídas a cada 30 minutos)\n09h às 19h: Restaurante \nPISCINA SOCIAL\n10h às 18h \nPISCINA SEMIOLÍMPICA\n08h às 16h: LIBERADO para recreação dos associados \nGINÁSIO DE ESPORTES (Principal)\n08h às 19h: LIBERADO para recreação dos associados \nGINÁSIO POLIESPORTIVO\n08h às 14h: LIBERADO para recreação dos associados\n14h às 17h: Campeonato Paulista (VÔLEI)\n17h às 19h: LIBERADO para recreação dos associados \nMINI-GINÁSIO\n08h às 19h: LIBERADO para recreação dos associados \nTÊNIS DE CAMPO\n08h às 19h: LIBERADO para recreação dos associados- quadras 3\, 4\, 5 e 6.\n13h às 18h: Torneio Interclubes- quadras 1 e 2 \nCAMPO DE FUTEBOL\n8h às 19h: LIBERADO para recreação dos associados
URL:https://intersantos.com.br/calendario/programacao-esportiva-e-social-315/
CATEGORIES:Programação esportiva
ATTACH;FMTTYPE=image/jpeg:https://intersantos.com.br/wp-content/uploads/2019/02/no-foto-quadrado.jpg
END:VEVENT
BEGIN:VEVENT
DTSTART;TZID=America/Sao_Paulo:20250629T130000
DTEND;TZID=America/Sao_Paulo:20250629T170000
DTSTAMP:20260419T200843
CREATED:20250528T151612Z
LAST-MODIFIED:20250528T151612Z
UID:36884-1751202000-1751216400@intersantos.com.br
SUMMARY:Domingão Vermelhinho com Na Duo
DESCRIPTION:
URL:https://intersantos.com.br/calendario/domingao-vermelhinho-com-na-duo-5/
CATEGORIES:Almoço,Música
ATTACH;FMTTYPE=image/jpeg:https://intersantos.com.br/wp-content/uploads/2019/02/no-foto-quadrado.jpg
END:VEVENT
BEGIN:VEVENT
DTSTART;TZID=America/Sao_Paulo:20250704T200000
DTEND;TZID=America/Sao_Paulo:20250704T230000
DTSTAMP:20260419T200843
CREATED:20250528T151656Z
LAST-MODIFIED:20250528T151656Z
UID:36886-1751659200-1751670000@intersantos.com.br
SUMMARY:Festa Junina com Miguel Bagestan
DESCRIPTION:
URL:https://intersantos.com.br/calendario/festa-junina-com-miguel-bagestan-2/
CATEGORIES:Clube,Evento Social,Música
ATTACH;FMTTYPE=image/jpeg:https://intersantos.com.br/wp-content/uploads/2019/02/no-foto-quadrado.jpg
END:VEVENT
BEGIN:VEVENT
DTSTART;VALUE=DATE:20250705
DTEND;VALUE=DATE:20250706
DTSTAMP:20260419T200843
CREATED:20250704T124457Z
LAST-MODIFIED:20250704T124457Z
UID:37823-1751673600-1751759999@intersantos.com.br
SUMMARY:Programação Esportiva e Social
DESCRIPTION:HORÁRIO DE FUNCIONAMENTO\n07h às 23h: Sede Social\n08h às 23h: Lanchonete Banzai\n12h às 23h: Restaurante\n08h às 23h: Secretaria\n09h às 20h: Balneários/SPA\n08h às 23h: Estacionamento\n08h às 13h: Musculação\n09h às 18h: Barraca de Praia \nNÁUTICA\n08h às 19h: Funcionamento\n08h às 17h: Secretaria\n08h30 às 12h e das 13h às 17h: descida de embarcações (rampa)\n09h30 às 18h30: Catraia (saídas a cada 30 minutos)\n09h às 19h: Restaurante \nPISCINA SOCIAL\n10h às 18h \nPISCINA SEMIOLÍMPICA\n07h às 10h: Treino Equipe (NATAÇÃO)\n08h às 16h: LIBERADO para recreação esportiva dos associados \nGINÁSIO DE ESPORTES (Principal)\n08h às 15h: LIBERADO para recreação dos associados\n15h às 18h: Treino Equipe (HÓQUEI)\n18h às 23h: LIBERADO para recreação dos associados \nGINÁSIO POLIESPORTIVO\n08h às 10h: LIBERADO para recreação dos associados\n10h às 14h: Recreação Associados (BASQUETE MASTER)\n14h às 22h: LIBERADO para recreação dos associados \nMINI-GINÁSIO\n08h às 22h: LIBERADO para recreação dos associados \nTÊNIS DE CAMPO\n08h às 22h: LIBERADO para recreação dos associados \nCAMPO DE FUTEBOL\n08h às 15h: LIBERADO para recreação dos associados\n15h às 18h: Recreação FUTEBOL MASTER
URL:https://intersantos.com.br/calendario/programacao-esportiva-e-social-316/
CATEGORIES:Programação esportiva
ATTACH;FMTTYPE=image/jpeg:https://intersantos.com.br/wp-content/uploads/2019/02/no-foto-quadrado.jpg
END:VEVENT
END:VCALENDAR