BEGIN:VCALENDAR
VERSION:2.0
PRODID:-//Clube Internacional de Regatas - ECPv6.15.20//NONSGML v1.0//EN
CALSCALE:GREGORIAN
METHOD:PUBLISH
X-ORIGINAL-URL:https://intersantos.com.br
X-WR-CALDESC:Eventos para Clube Internacional de Regatas
REFRESH-INTERVAL;VALUE=DURATION:PT1H
X-Robots-Tag:noindex
X-PUBLISHED-TTL:PT1H
BEGIN:VTIMEZONE
TZID:America/Sao_Paulo
BEGIN:STANDARD
TZOFFSETFROM:-0300
TZOFFSETTO:-0300
TZNAME:-03
DTSTART:20240101T000000
END:STANDARD
END:VTIMEZONE
BEGIN:VEVENT
DTSTART;TZID=America/Sao_Paulo:20250103T200000
DTEND;TZID=America/Sao_Paulo:20250103T230000
DTSTAMP:20260420T071630
CREATED:20241220T224756Z
LAST-MODIFIED:20241220T224756Z
UID:34843-1735934400-1735945200@intersantos.com.br
SUMMARY:Senadinho com OLDK7
DESCRIPTION:
URL:https://intersantos.com.br/calendario/senadinho-com-oldk7-4/
CATEGORIES:Senadinho
ATTACH;FMTTYPE=image/jpeg:https://intersantos.com.br/wp-content/uploads/2019/02/no-foto-quadrado.jpg
END:VEVENT
BEGIN:VEVENT
DTSTART;VALUE=DATE:20250104
DTEND;VALUE=DATE:20250105
DTSTAMP:20260420T071630
CREATED:20250103T194027Z
LAST-MODIFIED:20250103T194027Z
UID:34905-1735948800-1736035199@intersantos.com.br
SUMMARY:Programação Esportiva e Social
DESCRIPTION:HORÁRIO DE FUNCIONAMENTO\n07h às 23h: Sede Social\n08h às 22h: Lanchonete Banzai\n12h às 22h: Restaurante\n08h às 20h: Secretaria\n09h às 20h: Balneários/SPA\n08h às 22h: Estacionamento\n08h às 13h: Musculação\n09h às 18h: Barraca de Praia \nNÁUTICA\n08h às 19h: Funcionamento\n08h30 às 12h e das 13h às 17h: Descida de embarcações (rampa)\n09h30 às 18h30: Catraia\n09h às 19h: Restaurante \nPISCINA SOCIAL\n09h às 21h \nPISCINA SEMIOLÍMPICA\n08h às 16h: LIBERADO para recreação dos associados \nGINÁSIO DE ESPORTES (Principal)\n08h às 22h: LIBERADO para recreação dos associados \nGINÁSIO POLIESPORTIVO\n09h às 10h: LIBERADO para recreação dos associados\n10h às 13h: Recreação Basquete Master\n13h às 22h: LIBERADO para recreação dos associados \nMINI-GINÁSIO\n08h às 22h: LIBERADO para recreação dos associados \nTÊNIS DE CAMPO\n08h às 19h: LIBERADO para recreação esportiva dos associados \nCAMPO DE FUTEBOL\n08h às 15h: LIBERADO para recreação dos associados\n15h às 18h: Recreação Futebol Master\n18h às 22h: LIBERADO para recreação dos associados
URL:https://intersantos.com.br/calendario/programacao-esportiva-e-social-265/
CATEGORIES:Programação esportiva
ATTACH;FMTTYPE=image/jpeg:https://intersantos.com.br/wp-content/uploads/2019/02/no-foto-quadrado.jpg
END:VEVENT
BEGIN:VEVENT
DTSTART;VALUE=DATE:20250105
DTEND;VALUE=DATE:20250106
DTSTAMP:20260420T071630
CREATED:20250103T194555Z
LAST-MODIFIED:20250103T194555Z
UID:34907-1736035200-1736121599@intersantos.com.br
SUMMARY:Programação Esportiva e Social
DESCRIPTION:HORÁRIO DE FUNCIONAMENTO\n07h às 20h: Sede Social\n08h às 20h: Lanchonete Banzai\n12h às 20h: Restaurante\n08h às 16h: Secretaria\n09h às 15h: Balneários/SPA\n08h às 19h: Estacionamento\nFechada: Musculação\n09h às 18h: Barraca de Praia \nNÁUTICA\n08h às 19h: Funcionamento\n08h30 às 12h e das 13h às 17h: Descida de embarcações (rampa)\n09h30 às 18h30: Catraia\n09h às 19h: Restaurante \nPISCINA SOCIAL\n09h às 21h \nPISCINA SEMIOLÍMPICA\n08h às 16h: LIBERADO para recreação dos associados \nGINÁSIO DE ESPORTES (Principal)\n08h às 20h: LIBERADO para recreação dos associados \nGINÁSIO POLIESPORTIVO\n09h às 20h: LIBERADO para recreação dos associados \nMINI-GINÁSIO\n08h às 10h: LIBERADO para recreação dos associados \nTÊNIS DE CAMPO\n08h às 19h: LIBERADO para recreação esportiva dos associados \nCAMPO DE FUTEBOL\n08h às 20h: LIBERADO para recreação dos associados
URL:https://intersantos.com.br/calendario/programacao-esportiva-e-social-266/
CATEGORIES:Programação esportiva
ATTACH;FMTTYPE=image/jpeg:https://intersantos.com.br/wp-content/uploads/2019/02/no-foto-quadrado.jpg
END:VEVENT
BEGIN:VEVENT
DTSTART;TZID=America/Sao_Paulo:20250105T130000
DTEND;TZID=America/Sao_Paulo:20250105T170000
DTSTAMP:20260420T071630
CREATED:20241218T211518Z
LAST-MODIFIED:20241218T211518Z
UID:34784-1736082000-1736096400@intersantos.com.br
SUMMARY:Domingão Vermelhinho com Matheus Vasconcelos
DESCRIPTION:
URL:https://intersantos.com.br/calendario/domingao-vermelhinho-com-matheus-vasconcelos/
CATEGORIES:Almoço,Música
ATTACH;FMTTYPE=image/jpeg:https://intersantos.com.br/wp-content/uploads/2019/02/no-foto-quadrado.jpg
END:VEVENT
BEGIN:VEVENT
DTSTART;TZID=America/Sao_Paulo:20250110T200000
DTEND;TZID=America/Sao_Paulo:20250110T230000
DTSTAMP:20260420T071630
CREATED:20241218T212045Z
LAST-MODIFIED:20241218T212045Z
UID:34792-1736539200-1736550000@intersantos.com.br
SUMMARY:Senadinho com O Bando
DESCRIPTION:
URL:https://intersantos.com.br/calendario/senadinho-com-o-bando/
CATEGORIES:Senadinho
ATTACH;FMTTYPE=image/jpeg:https://intersantos.com.br/wp-content/uploads/2019/02/no-foto-quadrado.jpg
END:VEVENT
BEGIN:VEVENT
DTSTART;VALUE=DATE:20250111
DTEND;VALUE=DATE:20250112
DTSTAMP:20260420T071630
CREATED:20250110T191938Z
LAST-MODIFIED:20250110T191938Z
UID:34938-1736553600-1736639999@intersantos.com.br
SUMMARY:Programação Esportiva e Social
DESCRIPTION:HORÁRIO DE FUNCIONAMENTO\n07h às 23h: Sede Social\n08h às 22h: Lanchonete Banzai\n12h às 22h: Restaurante\n08h às 20h: Secretaria\n09h às 20h: Balneários/SPA\n08h às 22h: Estacionamento\n08h às 13h: Musculação\n09h às 18h: Barraca de Praia \nNÁUTICA\n08h às 19h: Funcionamento\n08h30 às 12h e das 13h às 17h: Descida de embarcações (rampa)\n09h30 às 18h30: Catraia\n09h às 19h: Restaurante \nPISCINA SOCIAL\n09h às 21h \nPISCINA SEMIOLÍMPICA\n08h às 16h: LIBERADO para recreação dos associados \nGINÁSIO DE ESPORTES (Principal)\n08h às 22h: LIBERADO para recreação dos associados \nGINÁSIO POLIESPORTIVO\n09h às 10h: LIBERADO para recreação dos associados\n10h às 13h: Recreação Basquete Master\n13h às 22h: LIBERADO para recreação dos associados \nMINI-GINÁSIO\n08h às 22h: LIBERADO para recreação dos associados \nTÊNIS DE CAMPO\n08h às 19h: LIBERADO para recreação esportiva dos associados \nCAMPO DE FUTEBOL\n08h às 15h: LIBERADO para recreação dos associados\n15h às 18h: Recreação Futebol Master\n18h às 22h: LIBERADO para recreação dos associados
URL:https://intersantos.com.br/calendario/programacao-esportiva-e-social-267/
CATEGORIES:Programação esportiva
ATTACH;FMTTYPE=image/jpeg:https://intersantos.com.br/wp-content/uploads/2019/02/no-foto-quadrado.jpg
END:VEVENT
BEGIN:VEVENT
DTSTART;VALUE=DATE:20250112
DTEND;VALUE=DATE:20250113
DTSTAMP:20260420T071630
CREATED:20250113T005424Z
LAST-MODIFIED:20250113T005424Z
UID:34943-1736640000-1736726399@intersantos.com.br
SUMMARY:Programação Esportiva e Social
DESCRIPTION:HORÁRIO DE FUNCIONAMENTO\n07h às 20h: Sede Social\n08h às 20h: Lanchonete Banzai\n12h às 20h: Restaurante\n08h às 16h: Secretaria\n09h às 15h: Balneários/SPA\n08h às 19h: Estacionamento\nFechada: Musculação\n09h às 18h: Barraca de Praia \nNÁUTICA\n08h às 19h: Funcionamento\n08h30 às 12h e das 13h às 17h: Descida de embarcações (rampa)\n09h30 às 18h30: Catraia\n09h às 19h: Restaurante \nPISCINA SOCIAL\n09h às 21h \nPISCINA SEMIOLÍMPICA\n08h às 16h: LIBERADO para recreação dos associados \nGINÁSIO DE ESPORTES (Principal)\n08h às 20h: LIBERADO para recreação dos associados \nGINÁSIO POLIESPORTIVO\n09h às 20h: LIBERADO para recreação dos associados \nMINI-GINÁSIO\n08h às 20h: LIBERADO para recreação dos associados \nTÊNIS DE CAMPO\n08h às 19h: LIBERADO para recreação esportiva dos associados \nCAMPO DE FUTEBOL\n08h às 20h: LIBERADO para recreação dos associados
URL:https://intersantos.com.br/calendario/programacao-esportiva-e-social-268/
CATEGORIES:Programação esportiva
ATTACH;FMTTYPE=image/jpeg:https://intersantos.com.br/wp-content/uploads/2019/02/no-foto-quadrado.jpg
END:VEVENT
BEGIN:VEVENT
DTSTART;TZID=America/Sao_Paulo:20250112T130000
DTEND;TZID=America/Sao_Paulo:20250112T170000
DTSTAMP:20260420T071630
CREATED:20241218T211717Z
LAST-MODIFIED:20241218T211717Z
UID:34786-1736686800-1736701200@intersantos.com.br
SUMMARY:Domingão Vermelhinho com Kamila Castro
DESCRIPTION:
URL:https://intersantos.com.br/calendario/domingao-vermelhinho-com-kamila-castro-4/
CATEGORIES:Almoço,Música
ATTACH;FMTTYPE=image/jpeg:https://intersantos.com.br/wp-content/uploads/2019/02/no-foto-quadrado.jpg
END:VEVENT
BEGIN:VEVENT
DTSTART;TZID=America/Sao_Paulo:20250117T200000
DTEND;TZID=America/Sao_Paulo:20250117T230000
DTSTAMP:20260420T071630
CREATED:20241218T212136Z
LAST-MODIFIED:20241218T212136Z
UID:34794-1737144000-1737154800@intersantos.com.br
SUMMARY:Senadinho com Mitologia
DESCRIPTION:
URL:https://intersantos.com.br/calendario/senadinho-com-mitologia/
CATEGORIES:Senadinho
ATTACH;FMTTYPE=image/jpeg:https://intersantos.com.br/wp-content/uploads/2019/02/no-foto-quadrado.jpg
END:VEVENT
BEGIN:VEVENT
DTSTART;VALUE=DATE:20250118
DTEND;VALUE=DATE:20250119
DTSTAMP:20260420T071630
CREATED:20250117T182753Z
LAST-MODIFIED:20250117T182753Z
UID:34961-1737158400-1737244799@intersantos.com.br
SUMMARY:Programação Esportiva e Social
DESCRIPTION:HORÁRIO DE FUNCIONAMENTO\n07h às 23h: Sede Social\n08h às 22h: Lanchonete Banzai\n12h às 22h: Restaurante\n08h às 20h: Secretaria\n09h às 20h: Balneários/SPA\n08h às 22h: Estacionamento\n08h às 13h: Musculação\n09h às 18h: Barraca de Praia \nNÁUTICA\n08h às 19h: Funcionamento\n08h30 às 12h e das 13h às 17h: Descida de embarcações (rampa)\n09h30 às 18h30: Catraia\n09h às 19h: Restaurante \nPISCINA SOCIAL\n09h às 21h\n10h às 14h: Exame Médico (ASSOCIADOS) \nPISCINA SEMIOLÍMPICA\n07h às 10h: Treino Equipe (NATAÇÃO) Raias 1 a 5\n08h às 16h: LIBERADO para recreação dos associados \nGINÁSIO DE ESPORTES (Principal)\n08h às 22h: LIBERADO para recreação dos associados \nGINÁSIO POLIESPORTIVO\n09h às 10h: LIBERADO para recreação dos associados\n10h às 13h: Recreação Basquete Master\n13h às 22h: LIBERADO para recreação dos associados \nMINI-GINÁSIO\n08h às 22h: LIBERADO para recreação dos associados \nTÊNIS DE CAMPO\n08h às 19h: LIBERADO para recreação esportiva dos associados \nCAMPO DE FUTEBOL\n08h às 15h: LIBERADO para recreação dos associados\n15h às 18h: Recreação Futebol Master\n18h às 22h: LIBERADO para recreação dos associados
URL:https://intersantos.com.br/calendario/programacao-esportiva-e-social-269/
CATEGORIES:Programação esportiva
ATTACH;FMTTYPE=image/jpeg:https://intersantos.com.br/wp-content/uploads/2019/02/no-foto-quadrado.jpg
END:VEVENT
BEGIN:VEVENT
DTSTART;VALUE=DATE:20250119
DTEND;VALUE=DATE:20250120
DTSTAMP:20260420T071630
CREATED:20250117T184133Z
LAST-MODIFIED:20250117T184133Z
UID:34963-1737244800-1737331199@intersantos.com.br
SUMMARY:Programação Esportiva e Social
DESCRIPTION:HORÁRIO DE FUNCIONAMENTO\n07h às 20h: Sede Social\n08h às 20h: Lanchonete Banzai\n12h às 20h: Restaurante\n08h às 16h: Secretaria\n09h às 15h: Balneários/SPA\n08h às 19h: Estacionamento\nFechada: Musculação\n09h às 18h: Barraca de Praia \nNÁUTICA\n08h às 19h: Funcionamento\n08h30 às 12h e das 13h às 17h: Descida de embarcações (rampa)\n09h30 às 18h30: Catraia\n09h às 19h: Restaurante \nPISCINA SOCIAL\n09h às 21h \nPISCINA SEMIOLÍMPICA\n08h às 16h: LIBERADO para recreação dos associados \nGINÁSIO DE ESPORTES (Principal)\n08h às 20h: LIBERADO para recreação dos associados \nGINÁSIO POLIESPORTIVO\n09h às 20h: LIBERADO para recreação dos associados \nMINI-GINÁSIO\n08h às 20h: LIBERADO para recreação dos associados \nTÊNIS DE CAMPO\n08h às 19h: LIBERADO para recreação esportiva dos associados \nCAMPO DE FUTEBOL\n08h às 20h: LIBERADO para recreação dos associados
URL:https://intersantos.com.br/calendario/programacao-esportiva-e-social-270/
CATEGORIES:Programação esportiva
ATTACH;FMTTYPE=image/jpeg:https://intersantos.com.br/wp-content/uploads/2019/02/no-foto-quadrado.jpg
END:VEVENT
BEGIN:VEVENT
DTSTART;TZID=America/Sao_Paulo:20250119T130000
DTEND;TZID=America/Sao_Paulo:20250119T170000
DTSTAMP:20260420T071630
CREATED:20241218T211819Z
LAST-MODIFIED:20241218T211819Z
UID:34788-1737291600-1737306000@intersantos.com.br
SUMMARY:Domingão Vermelhinho Dany Romano
DESCRIPTION:
URL:https://intersantos.com.br/calendario/domingao-vermelhinho-dany-romano/
CATEGORIES:Almoço,Música
ATTACH;FMTTYPE=image/jpeg:https://intersantos.com.br/wp-content/uploads/2019/02/no-foto-quadrado.jpg
END:VEVENT
BEGIN:VEVENT
DTSTART;TZID=America/Sao_Paulo:20250124T200000
DTEND;TZID=America/Sao_Paulo:20250124T230000
DTSTAMP:20260420T071630
CREATED:20241218T212225Z
LAST-MODIFIED:20241218T212225Z
UID:34796-1737748800-1737759600@intersantos.com.br
SUMMARY:Senadinho com Kubo Mágico
DESCRIPTION:
URL:https://intersantos.com.br/calendario/senadinho-com-kubo-magico-8/
CATEGORIES:Senadinho
ATTACH;FMTTYPE=image/jpeg:https://intersantos.com.br/wp-content/uploads/2019/02/no-foto-quadrado.jpg
END:VEVENT
BEGIN:VEVENT
DTSTART;VALUE=DATE:20250125
DTEND;VALUE=DATE:20250126
DTSTAMP:20260420T071630
CREATED:20250124T153919Z
LAST-MODIFIED:20250124T153919Z
UID:34984-1737763200-1737849599@intersantos.com.br
SUMMARY:Programação Esportiva e Social
DESCRIPTION:HORÁRIO DE FUNCIONAMENTO\n07h às 23h: Sede Social\n08h às 22h: Lanchonete Banzai\n12h às 22h: Restaurante\n08h às 20h: Secretaria\n09h às 20h: Balneários/SPA\n08h às 22h: Estacionamento\n08h às 13h: Musculação\n09h às 18h: Barraca de Praia \nNÁUTICA\n08h às 19h: Funcionamento\n08h30 às 12h e das 13h às 17h: Descida de embarcações (rampa)\n09h30 às 18h30: Catraia\n09h às 19h: Restaurante \nPISCINA SOCIAL\n09h às 21h\n10h às 14h: Exame Médico (ASSOCIADOS) \nPISCINA SEMIOLÍMPICA\n07h às 10h: Treino Equipe (NATAÇÃO) Raias 1 a 5\n08h às 16h: LIBERADO para recreação dos associados \nGINÁSIO DE ESPORTES (Principal)\n08h às 22h: LIBERADO para recreação dos associados \nGINÁSIO POLIESPORTIVO\n09h às 10h: LIBERADO para recreação dos associados\n10h às 13h: Festival de Basquete Master\n13h às 22h: LIBERADO para recreação dos associados \nMINI-GINÁSIO\n09h às 22h: LIBERADO para recreação dos associados \nTÊNIS DE CAMPO\n08h às 19h: LIBERADO para recreação esportiva dos associados \nCAMPO DE FUTEBOL\n08h às 15h: LIBERADO para recreação dos associados\n15h às 18h: Recreação Futebol Master\n18h às 22h: LIBERADO para recreação dos associados
URL:https://intersantos.com.br/calendario/programacao-esportiva-e-social-271/
CATEGORIES:Programação esportiva
ATTACH;FMTTYPE=image/jpeg:https://intersantos.com.br/wp-content/uploads/2019/02/no-foto-quadrado.jpg
END:VEVENT
BEGIN:VEVENT
DTSTART;VALUE=DATE:20250126
DTEND;VALUE=DATE:20250127
DTSTAMP:20260420T071630
CREATED:20250124T154514Z
LAST-MODIFIED:20250124T154514Z
UID:34986-1737849600-1737935999@intersantos.com.br
SUMMARY:Programação Esportiva e Social
DESCRIPTION:HORÁRIO DE FUNCIONAMENTO\n07h às 20h: Sede Social\n08h às 20h: Lanchonete Banzai\n12h às 20h: Restaurante\n08h às 16h: Secretaria\n09h às 15h: Balneários/SPA\n08h às 19h: Estacionamento\nFechada: Musculação\n09h às 18h: Barraca de Praia \nNÁUTICA\n08h às 19h: Funcionamento\n08h30 às 12h e das 13h às 17h: Descida de embarcações (rampa)\n09h30 às 18h30: Catraia\n09h às 19h: Restaurante \nPISCINA SOCIAL\n09h às 21h \nPISCINA SEMIOLÍMPICA\n08h às 16h: LIBERADO para recreação dos associados \nGINÁSIO DE ESPORTES (Principal)\n08h às 20h: LIBERADO para recreação dos associados \nGINÁSIO POLIESPORTIVO\n09h às 20h: LIBERADO para recreação dos associados \nMINI-GINÁSIO\n08h às 20h: LIBERADO para recreação dos associados \nTÊNIS DE CAMPO\n08h às 20h: LIBERADO para recreação esportiva dos associados \nCAMPO DE FUTEBOL\n08h às 20h: LIBERADO para recreação dos associados
URL:https://intersantos.com.br/calendario/programacao-esportiva-e-social-272/
CATEGORIES:Programação esportiva
ATTACH;FMTTYPE=image/jpeg:https://intersantos.com.br/wp-content/uploads/2019/02/no-foto-quadrado.jpg
END:VEVENT
BEGIN:VEVENT
DTSTART;TZID=America/Sao_Paulo:20250126T080000
DTEND;TZID=America/Sao_Paulo:20250126T170000
DTSTAMP:20260420T071630
CREATED:20241218T211950Z
LAST-MODIFIED:20241218T211950Z
UID:34790-1737878400-1737910800@intersantos.com.br
SUMMARY:Domingão Vermelhinho Rock Case
DESCRIPTION:
URL:https://intersantos.com.br/calendario/domingao-vermelhinho-rock-case/
CATEGORIES:Almoço,Música
ATTACH;FMTTYPE=image/jpeg:https://intersantos.com.br/wp-content/uploads/2019/02/no-foto-quadrado.jpg
END:VEVENT
BEGIN:VEVENT
DTSTART;TZID=America/Sao_Paulo:20250131T200000
DTEND;TZID=America/Sao_Paulo:20250131T230000
DTSTAMP:20260420T071630
CREATED:20241218T212315Z
LAST-MODIFIED:20241218T212315Z
UID:34798-1738353600-1738364400@intersantos.com.br
SUMMARY:Senadinho com Koala Joe
DESCRIPTION:
URL:https://intersantos.com.br/calendario/senadinho-com-koala-joe-4/
CATEGORIES:Senadinho
ATTACH;FMTTYPE=image/jpeg:https://intersantos.com.br/wp-content/uploads/2019/02/no-foto-quadrado.jpg
END:VEVENT
END:VCALENDAR